BEGIN:VCALENDAR
VERSION:2.0
PRODID:-//Center for Reading and Writing - ECPv6.15.17.1//NONSGML v1.0//EN
CALSCALE:GREGORIAN
METHOD:PUBLISH
X-ORIGINAL-URL:https://www.ramapo.edu/crw
X-WR-CALDESC:Events for Center for Reading and Writing
REFRESH-INTERVAL;VALUE=DURATION:PT1H
X-Robots-Tag:noindex
X-PUBLISHED-TTL:PT1H
BEGIN:VTIMEZONE
TZID:America/New_York
BEGIN:DAYLIGHT
TZOFFSETFROM:-0500
TZOFFSETTO:-0400
TZNAME:EDT
DTSTART:20190310T070000
END:DAYLIGHT
BEGIN:STANDARD
TZOFFSETFROM:-0400
TZOFFSETTO:-0500
TZNAME:EST
DTSTART:20191103T060000
END:STANDARD
BEGIN:DAYLIGHT
TZOFFSETFROM:-0500
TZOFFSETTO:-0400
TZNAME:EDT
DTSTART:20200308T070000
END:DAYLIGHT
BEGIN:STANDARD
TZOFFSETFROM:-0400
TZOFFSETTO:-0500
TZNAME:EST
DTSTART:20201101T060000
END:STANDARD
BEGIN:DAYLIGHT
TZOFFSETFROM:-0500
TZOFFSETTO:-0400
TZNAME:EDT
DTSTART:20210314T070000
END:DAYLIGHT
BEGIN:STANDARD
TZOFFSETFROM:-0400
TZOFFSETTO:-0500
TZNAME:EST
DTSTART:20211107T060000
END:STANDARD
BEGIN:DAYLIGHT
TZOFFSETFROM:-0500
TZOFFSETTO:-0400
TZNAME:EDT
DTSTART:20220313T070000
END:DAYLIGHT
BEGIN:STANDARD
TZOFFSETFROM:-0400
TZOFFSETTO:-0500
TZNAME:EST
DTSTART:20221106T060000
END:STANDARD
END:VTIMEZONE
BEGIN:VEVENT
DTSTART;TZID=America/New_York:20210208T131500
DTEND;TZID=America/New_York:20210208T140000
DTSTAMP:20260425T081209
CREATED:20210128T140041Z
LAST-MODIFIED:20210128T140041Z
UID:10000126-1612790100-1612792800@www.ramapo.edu
SUMMARY:Planning and Drafting the Thesis & Argument
DESCRIPTION:This 45-minute workshop will address planning and drafting strategies for writing an argument paper. Identifying key ideas and concepts through quote selection will serve as the foundation for developing an argument and thesis. All students welcome. For more information\, contact Priscilla Tovey\, ptovey@ramapo.edu.  \nRegister
URL:https://www.ramapo.edu/crw/event/planning-and-drafting-the-thesis-argument/
LOCATION:Webex Virtual Meeting
END:VEVENT
BEGIN:VEVENT
DTSTART;TZID=America/New_York:20210204T131500
DTEND;TZID=America/New_York:20210204T140000
DTSTAMP:20260425T081209
CREATED:20210128T135620Z
LAST-MODIFIED:20210128T135620Z
UID:10000124-1612444500-1612447200@www.ramapo.edu
SUMMARY:Planning and Drafting the Argument & Thesis
DESCRIPTION:This 45-minute workshop will address planning and drafting strategies for writing an argument paper. Identifying key ideas and concepts through quote selection will serve as the foundation for developing an argument and thesis. All students welcome. For more information\, contact Priscilla Tovey\, ptovey@ramapo.edu \nRegister
URL:https://www.ramapo.edu/crw/event/planning-and-drafting-the-argument-thesis/
LOCATION:Webex Virtual Meeting
END:VEVENT
BEGIN:VEVENT
DTSTART;TZID=America/New_York:20210203T150000
DTEND;TZID=America/New_York:20210203T154500
DTSTAMP:20260425T081209
CREATED:20210126T185112Z
LAST-MODIFIED:20210126T185112Z
UID:10000020-1612364400-1612367100@www.ramapo.edu
SUMMARY:Study Skills to Start the Semester Strong
DESCRIPTION:Do you need to brush up on study skills? This 45-minute workshop will address valuable strategies for academic success\, including note-taking\, annotating\, managing time\, and taking care of yourself. Tips on where\, when\, and how to study will also be discussed. Open to all students. For more information\, contact Priscilla Tovey\, ptovey@ramapo.edu. \nRegister
URL:https://www.ramapo.edu/crw/event/study-skills-to-start-the-semester-strong-2/
LOCATION:Webex Virtual Meeting
END:VEVENT
BEGIN:VEVENT
DTSTART;TZID=America/New_York:20201216T120000
DTEND;TZID=America/New_York:20201216T124500
DTSTAMP:20260425T081209
CREATED:20200904T165256Z
LAST-MODIFIED:20200922T185009Z
UID:10000015-1608120000-1608122700@www.ramapo.edu
SUMMARY:Avoiding Plagiarism
DESCRIPTION:This 45-minute workshop will address how to successfully paraphrase\, summarize\, and directly quote the sources used for writing papers\, articles\, presentations\, speeches\, etc. Plagiarism in its various forms will be defined and discussed\, including Ramapo’s policy on academic honesty. Open to all students. \n\nRegister
URL:https://www.ramapo.edu/crw/event/avoiding-plagiarism-3/
LOCATION:Webex Virtual Meeting
END:VEVENT
BEGIN:VEVENT
DTSTART;TZID=America/New_York:20201203T131500
DTEND;TZID=America/New_York:20201203T140000
DTSTAMP:20260425T081209
CREATED:20200904T170209Z
LAST-MODIFIED:20200921T165259Z
UID:10000018-1607001300-1607004000@www.ramapo.edu
SUMMARY:Study Skills to End the Semester Strong
DESCRIPTION:This 45-minute workshop will address study skills to help with end-of-the-semester assignments & exams\, including reading\, annotating\, and recall strategies\, time management\, taking care of your health\, and using campus resources. All students are welcome. \n  \nRegister
URL:https://www.ramapo.edu/crw/event/study-skills-to-end-the-semester-strong/
LOCATION:Webex Virtual Meeting
END:VEVENT
BEGIN:VEVENT
DTSTART;TZID=America/New_York:20201119T131500
DTEND;TZID=America/New_York:20201119T140000
DTSTAMP:20260425T081209
CREATED:20200904T165855Z
LAST-MODIFIED:20200921T164738Z
UID:10000017-1605791700-1605794400@www.ramapo.edu
SUMMARY:Reading for the Research Paper
DESCRIPTION:This 45-minute workshop will address reading strategies for conducting research\, including how to read scholarly sources. Determining source credibility will also be discussed. All students are welcome. \n  \nRegister
URL:https://www.ramapo.edu/crw/event/reading-for-the-research-paper-2/
LOCATION:Webex Virtual Meeting
END:VEVENT
BEGIN:VEVENT
DTSTART;TZID=America/New_York:20201112T131500
DTEND;TZID=America/New_York:20201112T140000
DTSTAMP:20260425T081209
CREATED:20200904T165132Z
LAST-MODIFIED:20200922T184841Z
UID:10000014-1605186900-1605189600@www.ramapo.edu
SUMMARY:Avoiding Plagiarism
DESCRIPTION:This 45-minute workshop will address how to successfully paraphrase\, summarize\, and directly quote the sources used for writing papers\, articles\, presentations\, speeches\, etc. Plagiarism in its various forms will be defined and discussed\, including Ramapo’s policy on academic honesty. Open to all students.  \n\nRegister
URL:https://www.ramapo.edu/crw/event/avoiding-plagiarism-2/
LOCATION:Webex Virtual Meeting
END:VEVENT
BEGIN:VEVENT
DTSTART;TZID=America/New_York:20201105T131500
DTEND;TZID=America/New_York:20201105T140000
DTSTAMP:20260425T081209
CREATED:20200904T164943Z
LAST-MODIFIED:20200921T164426Z
UID:10000013-1604582100-1604584800@www.ramapo.edu
SUMMARY:Chicago/Turabian Documentation Style
DESCRIPTION:This 45-minute workshop will address Turabian/Chicago documentation style\, including page formatting\, source integration\, footnotes\, bibliography\, and using the style manual. All students are welcome. \n  \nRegister
URL:https://www.ramapo.edu/crw/event/chicago-turabian-documentation-style-2/
LOCATION:Webex Virtual Meeting
END:VEVENT
BEGIN:VEVENT
DTSTART;TZID=America/New_York:20201104T131500
DTEND;TZID=America/New_York:20201104T140000
DTSTAMP:20260425T081209
CREATED:20200904T165518Z
LAST-MODIFIED:20200921T164237Z
UID:10000016-1604495700-1604498400@www.ramapo.edu
SUMMARY:Reading for the Research Paper
DESCRIPTION:This 45-minute workshop will address reading strategies for conducting research\, including how to read scholarly sources. Determining source credibility will also be discussed. All students are welcome. \n  \nRegister
URL:https://www.ramapo.edu/crw/event/reading-for-the-research-paper/
LOCATION:Webex Virtual Meeting
END:VEVENT
BEGIN:VEVENT
DTSTART;TZID=America/New_York:20201102T131500
DTEND;TZID=America/New_York:20201102T140000
DTSTAMP:20260425T081209
CREATED:20200904T164715Z
LAST-MODIFIED:20200922T184704Z
UID:10000012-1604322900-1604325600@www.ramapo.edu
SUMMARY:MLA Documentation Style
DESCRIPTION:This 45-minute workshop will address how to use MLA documentation style\, from page formatting to in-text citations\, source integration\, and the Works Cited page.  All students are welcome. \n\nRegister
URL:https://www.ramapo.edu/crw/event/mla-documentation-style-2/
LOCATION:Webex Virtual Meeting
END:VEVENT
BEGIN:VEVENT
DTSTART;TZID=America/New_York:20201029T131500
DTEND;TZID=America/New_York:20201029T140000
DTSTAMP:20260425T081209
CREATED:20200904T164548Z
LAST-MODIFIED:20200921T163928Z
UID:10000011-1603977300-1603980000@www.ramapo.edu
SUMMARY:Improving Sentences
DESCRIPTION:This 45-minute workshop will address proofreading and editing sentences\, including making grammar user-friendly\, moving from the macro to the micro level\, reading aloud\, and visiting the CRW for help. All students are welcome. \n  \nRegister
URL:https://www.ramapo.edu/crw/event/improving-sentences-2/
LOCATION:Webex Virtual Meeting
END:VEVENT
BEGIN:VEVENT
DTSTART;TZID=America/New_York:20201028T120000
DTEND;TZID=America/New_York:20201028T124500
DTSTAMP:20260425T081209
CREATED:20200904T164435Z
LAST-MODIFIED:20200922T185209Z
UID:10000100-1603886400-1603889100@www.ramapo.edu
SUMMARY:Evaluating Resources:  The Questions to Ask
DESCRIPTION:Sponsored by the Library and the Center for Reading and Writing\, this 45-minute workshop will address strategies for evaluating print and news sources\, including authority\, accuracy\, reliability\, and timeliness.  Fake news\, what it is\, and tips on how to identify it will also be discussed.  All students are welcome.\n\nRegister
URL:https://www.ramapo.edu/crw/event/evaluating-resources-the-questions-to-ask-2/
LOCATION:Webex Virtual Meeting
END:VEVENT
BEGIN:VEVENT
DTSTART;TZID=America/New_York:20201026T131500
DTEND;TZID=America/New_York:20201026T140000
DTSTAMP:20260425T081209
CREATED:20200903T175149Z
LAST-MODIFIED:20200921T162338Z
UID:10000099-1603718100-1603720800@www.ramapo.edu
SUMMARY:Annotating and Outlining a Text
DESCRIPTION:This 45-minute workshop will address strategies for annotating and outlining a text. Critical thinking will be emphasized\, including discerning author’s purpose\, evaluating claims\, raising questions\, and using prior knowledge in actively working with a text.  \n  \nRegister
URL:https://www.ramapo.edu/crw/event/annotating-and-outlining-a-text/
LOCATION:Webex Virtual Meeting
END:VEVENT
BEGIN:VEVENT
DTSTART;TZID=America/New_York:20201022T131500
DTEND;TZID=America/New_York:20201022T140000
DTSTAMP:20260425T081209
CREATED:20201008T190145Z
LAST-MODIFIED:20201008T190241Z
UID:10000007-1603372500-1603375200@www.ramapo.edu
SUMMARY:MLA Documentation Style
DESCRIPTION:This 45-minute workshop will address how to use MLA documentation style\, from page formatting to in-text citations\, source integration\, and the Works Cited page.  All students are welcome.\nRegister
URL:https://www.ramapo.edu/crw/event/mla-documentation-style-3/
END:VEVENT
BEGIN:VEVENT
DTSTART;TZID=America/New_York:20201021T111500
DTEND;TZID=America/New_York:20201021T120000
DTSTAMP:20260425T081209
CREATED:20200903T174542Z
LAST-MODIFIED:20200921T162244Z
UID:10000098-1603278900-1603281600@www.ramapo.edu
SUMMARY:APA Documentation Style
DESCRIPTION:This 45-minute workshop will address how to use APA documentation style\, including page formatting\, in-text citations\, source integration\, and references. All students are welcome.\n  \nRegister
URL:https://www.ramapo.edu/crw/event/apa-documentation-style/
LOCATION:Webex Virtual Meeting
END:VEVENT
BEGIN:VEVENT
DTSTART;TZID=America/New_York:20201019T131500
DTEND;TZID=America/New_York:20201019T140000
DTSTAMP:20260425T081209
CREATED:20200903T163429Z
LAST-MODIFIED:20200922T184340Z
UID:10000085-1603113300-1603116000@www.ramapo.edu
SUMMARY:Time Management
DESCRIPTION:You’ve got a lot to do\, so planning is essential. Learn ways to become more efficient and reduce your stress. This 45-minute workshop will address time-management strategies and tools\, including goal-setting\, using an organizer\, planning weekly\, addressing priorities\, and limiting distractions. All students are welcome. \n\nRegister
URL:https://www.ramapo.edu/crw/event/time-management/
LOCATION:Webex Virtual Meeting
END:VEVENT
BEGIN:VEVENT
DTSTART;TZID=America/New_York:20201015T131500
DTEND;TZID=America/New_York:20201015T140000
DTSTAMP:20260425T081209
CREATED:20200903T163235Z
LAST-MODIFIED:20200921T160818Z
UID:10000083-1602767700-1602770400@www.ramapo.edu
SUMMARY:How to Develop an Argument & Thesis
DESCRIPTION:This 45-minute workshop will address planning and drafting strategies for writing an argument paper. Identifying key ideas and concepts through quote selection will serve as the foundation for developing an argument and thesis. All students are welcome.\n  \nRegister
URL:https://www.ramapo.edu/crw/event/how-to-develop-an-argument-thesis-3/
LOCATION:Webex Virtual Meeting
END:VEVENT
BEGIN:VEVENT
DTSTART;TZID=America/New_York:20201014T131500
DTEND;TZID=America/New_York:20201014T141500
DTSTAMP:20260425T081209
CREATED:20200911T133914Z
LAST-MODIFIED:20200922T194304Z
UID:10000019-1602681300-1602684900@www.ramapo.edu
SUMMARY:Managing Academically During a Virtual Semester
DESCRIPTION:Now that you’ve completed a few weeks of classes\, join Vice President Joe Connell to learn strategies to succeed for the rest of the semester. You’ll explore tips for self-managing your learning\, as well as your academic rights and responsibilities as a Ramapo student. \n  \nRegister
URL:https://www.ramapo.edu/crw/event/managing-academically-during-a-virtual-semester/
LOCATION:Webex Virtual Meeting
END:VEVENT
BEGIN:VEVENT
DTSTART;TZID=America/New_York:20201014T121500
DTEND;TZID=America/New_York:20201014T130000
DTSTAMP:20260425T081209
CREATED:20200903T174229Z
LAST-MODIFIED:20200921T162129Z
UID:10000094-1602677700-1602680400@www.ramapo.edu
SUMMARY:Chicago/Turabian Documentation Style
DESCRIPTION:This 45-minute workshop will address Turabian/Chicago documentation style\, including page formatting\, source integration\, footnotes\, bibliography\, and using the style manual. All students are welcome.\n  \nRegister
URL:https://www.ramapo.edu/crw/event/chicago-turabian-documentation-style/
LOCATION:Webex Virtual Meeting
END:VEVENT
BEGIN:VEVENT
DTSTART;TZID=America/New_York:20201012T131500
DTEND;TZID=America/New_York:20201012T140000
DTSTAMP:20260425T081209
CREATED:20200903T160005Z
LAST-MODIFIED:20200921T161004Z
UID:10000009-1602508500-1602511200@www.ramapo.edu
SUMMARY:Critical Reading Strategies
DESCRIPTION:This 45-minute workshop will address how to critically read a text\, including pre-viewing\, questioning\, annotating\, using background knowledge\, and rereading. All students are welcome. \n  \nRegister
URL:https://www.ramapo.edu/crw/event/critical-reading-strategies-2/
LOCATION:Webex Virtual Meeting
END:VEVENT
BEGIN:VEVENT
DTSTART;TZID=America/New_York:20201008T131500
DTEND;TZID=America/New_York:20201008T140000
DTSTAMP:20260425T081209
CREATED:20200903T163724Z
LAST-MODIFIED:20201008T185504Z
UID:10000090-1602162900-1602165600@www.ramapo.edu
SUMMARY:MLA Documentation Style
DESCRIPTION:This workshop has been rescheduled for 10/22 at 1:15.  \nPlease see that date for registration information.
URL:https://www.ramapo.edu/crw/event/mla-documentation-style/
LOCATION:Webex Virtual Meeting
END:VEVENT
BEGIN:VEVENT
DTSTART;TZID=America/New_York:20201007T141500
DTEND;TZID=America/New_York:20201007T150000
DTSTAMP:20260425T081209
CREATED:20200903T173903Z
LAST-MODIFIED:20200922T184017Z
UID:10000092-1602080100-1602082800@www.ramapo.edu
SUMMARY:Avoiding Plagiarism
DESCRIPTION:This 45-minute workshop will address how to successfully paraphrase\, summarize\, and directly quote the sources used for writing papers\, articles\, presentations\, speeches\, etc. Plagiarism in its various forms will be defined and discussed\, including Ramapo’s policy on academic honesty. Open to all students.\n\nRegister
URL:https://www.ramapo.edu/crw/event/avoiding-plagiarism/
LOCATION:Webex Virtual Meeting
END:VEVENT
BEGIN:VEVENT
DTSTART;TZID=America/New_York:20201007T131500
DTEND;TZID=America/New_York:20201007T140000
DTSTAMP:20260425T081209
CREATED:20200903T162512Z
LAST-MODIFIED:20200921T160728Z
UID:10000010-1602076500-1602079200@www.ramapo.edu
SUMMARY:How to Develop an Argument & Thesis
DESCRIPTION:This 45-minute workshop will address planning and drafting strategies for writing an argument paper. Identifying key ideas and concepts through quote selection will serve as the foundation for developing an argument and thesis. All students are welcome.\n  \nRegister
URL:https://www.ramapo.edu/crw/event/how-to-develop-an-argument-thesis-2/
LOCATION:Webex Virtual Meeting
END:VEVENT
BEGIN:VEVENT
DTSTART;TZID=America/New_York:20201005T131500
DTEND;TZID=America/New_York:20201005T140000
DTSTAMP:20260425T081209
CREATED:20200903T163547Z
LAST-MODIFIED:20200921T161831Z
UID:10000087-1601903700-1601906400@www.ramapo.edu
SUMMARY:Improving Sentences
DESCRIPTION:This 45-minute workshop will address proofreading and editing sentences\, including making grammar user-friendly\, moving from the macro to the micro level\,  reading aloud\, and visiting the CRW for help. All students are welcome.\n  \nRegister
URL:https://www.ramapo.edu/crw/event/improving-sentences/
LOCATION:Webex Virtual Meeting
END:VEVENT
BEGIN:VEVENT
DTSTART;TZID=America/New_York:20201001T131500
DTEND;TZID=America/New_York:20201001T140000
DTSTAMP:20260425T081209
CREATED:20200903T174409Z
LAST-MODIFIED:20200922T183846Z
UID:10000096-1601558100-1601560800@www.ramapo.edu
SUMMARY:Evaluating Resources:  The Questions to Ask
DESCRIPTION:Sponsored by the Library and the Center for Reading and Writing\, this 45-minute workshop will address strategies for evaluating print and news sources\, including authority\, accuracy\, reliability\, and timeliness.  Fake news\, what it is\, and tips on how to identify it will also be discussed.  All students are welcome.\n  \nRegister
URL:https://www.ramapo.edu/crw/event/evaluating-resources-the-questions-to-ask/
LOCATION:Webex Virtual Meeting
END:VEVENT
BEGIN:VEVENT
DTSTART;TZID=America/New_York:20200928T131500
DTEND;TZID=America/New_York:20200928T140000
DTSTAMP:20260425T081209
CREATED:20200902T151834Z
LAST-MODIFIED:20200921T161637Z
UID:10000006-1601298900-1601301600@www.ramapo.edu
SUMMARY:Annotating and Outlining
DESCRIPTION:This 45-minute workshop will address strategies for annotating and outlining a text. Critical thinking will be emphasized\, including discerning author’s purpose\, evaluating claims\, raising questions\, and using prior knowledge in actively working with a text.  \n  \nRegister
URL:https://www.ramapo.edu/crw/event/annotating-and-outlining/
LOCATION:Webex Virtual Meeting
END:VEVENT
BEGIN:VEVENT
DTSTART;TZID=America/New_York:20200923T140000
DTEND;TZID=America/New_York:20200923T144500
DTSTAMP:20260425T081209
CREATED:20200903T161027Z
LAST-MODIFIED:20200921T160639Z
UID:10000008-1600869600-1600872300@www.ramapo.edu
SUMMARY:How to Develop an Argument & Thesis
DESCRIPTION:This 45-minute workshop will address planning and drafting strategies for writing an argument paper. Identifying key ideas and concepts through quote selection will serve as the foundation for developing an argument and thesis. All students are welcome.\n  \nRegister
URL:https://www.ramapo.edu/crw/event/how-to-develop-an-argument-thesis/
LOCATION:Webex Virtual Meeting
END:VEVENT
BEGIN:VEVENT
DTSTART;TZID=America/New_York:20200923T130000
DTEND;TZID=America/New_York:20200923T134500
DTSTAMP:20260425T081209
CREATED:20200902T140301Z
LAST-MODIFIED:20200921T160921Z
UID:10000030-1600866000-1600868700@www.ramapo.edu
SUMMARY:Critical Reading Strategies
DESCRIPTION:  \nThis 45-minute workshop will address how to critically read a text\, including pre-viewing\, questioning\, annotating\, using background knowledge\, and rereading. All students are welcome. \n  \nRegister
URL:https://www.ramapo.edu/crw/event/critical-reading-strategies/
LOCATION:Webex Virtual Meeting
END:VEVENT
BEGIN:VEVENT
DTSTART;TZID=America/New_York:20200921T131500
DTEND;TZID=America/New_York:20200921T140000
DTSTAMP:20260425T081209
CREATED:20200901T172651Z
LAST-MODIFIED:20200921T161511Z
UID:10000005-1600694100-1600696800@www.ramapo.edu
SUMMARY:Study Skills to Start the Semester Strong
DESCRIPTION:Do you need to brush up on study skills? This 45-minute workshop will address valuable strategies for academic success\, including note-taking\, annotating\, managing time\, and taking care of yourself. Tips on where\, when\, and how to study will also be discussed. Open to all students.\n  \nRegister
URL:https://www.ramapo.edu/crw/event/study-skills-to-start-the-semester-strong/
LOCATION:Webex Virtual Meeting
END:VEVENT
END:VCALENDAR