BEGIN:VCALENDAR
VERSION:2.0
PRODID:-//Center for Reading and Writing - ECPv6.15.17.1//NONSGML v1.0//EN
CALSCALE:GREGORIAN
METHOD:PUBLISH
X-ORIGINAL-URL:https://www.ramapo.edu/crw
X-WR-CALDESC:Events for Center for Reading and Writing
REFRESH-INTERVAL;VALUE=DURATION:PT1H
X-Robots-Tag:noindex
X-PUBLISHED-TTL:PT1H
BEGIN:VTIMEZONE
TZID:America/New_York
BEGIN:DAYLIGHT
TZOFFSETFROM:-0500
TZOFFSETTO:-0400
TZNAME:EDT
DTSTART:20240310T070000
END:DAYLIGHT
BEGIN:STANDARD
TZOFFSETFROM:-0400
TZOFFSETTO:-0500
TZNAME:EST
DTSTART:20241103T060000
END:STANDARD
BEGIN:DAYLIGHT
TZOFFSETFROM:-0500
TZOFFSETTO:-0400
TZNAME:EDT
DTSTART:20250309T070000
END:DAYLIGHT
BEGIN:STANDARD
TZOFFSETFROM:-0400
TZOFFSETTO:-0500
TZNAME:EST
DTSTART:20251102T060000
END:STANDARD
BEGIN:DAYLIGHT
TZOFFSETFROM:-0500
TZOFFSETTO:-0400
TZNAME:EDT
DTSTART:20260308T070000
END:DAYLIGHT
BEGIN:STANDARD
TZOFFSETFROM:-0400
TZOFFSETTO:-0500
TZNAME:EST
DTSTART:20261101T060000
END:STANDARD
BEGIN:DAYLIGHT
TZOFFSETFROM:-0500
TZOFFSETTO:-0400
TZNAME:EDT
DTSTART:20270314T070000
END:DAYLIGHT
BEGIN:STANDARD
TZOFFSETFROM:-0400
TZOFFSETTO:-0500
TZNAME:EST
DTSTART:20271107T060000
END:STANDARD
END:VTIMEZONE
BEGIN:VEVENT
DTSTART;TZID=America/New_York:20260421T120000
DTEND;TZID=America/New_York:20260421T124500
DTSTAMP:20260426T001332
CREATED:20260116T181337Z
LAST-MODIFIED:20260116T181337Z
UID:10000355-1776772800-1776775500@www.ramapo.edu
SUMMARY:Evaluating Sources
DESCRIPTION:As college students\, you want to include the most reliable information in your papers\, projects\, and presentations\, but at times it can be difficult to discern. We are inundated with information today through a wide variety of media. How do we know what is credible and what is not? This 45-minute workshop will help answer these questions by addressing strategies for evaluating print and various online news sources. We will discuss essential questions to pursue in finding trustworthy information. All students are welcome. \nRegister
URL:https://www.ramapo.edu/crw/event/evaluating-sources-3/
LOCATION:Online
ORGANIZER;CN="Priscilla Tovey/Center for Reading &amp%3B Writing":MAILTO:ptovey@ramapo.edu
END:VEVENT
BEGIN:VEVENT
DTSTART;TZID=America/New_York:20260417T100000
DTEND;TZID=America/New_York:20260417T104500
DTSTAMP:20260426T001332
CREATED:20260114T190644Z
LAST-MODIFIED:20260114T191757Z
UID:10000339-1776420000-1776422700@www.ramapo.edu
SUMMARY:Avoiding Plagiarism
DESCRIPTION:This 45-minute workshop will address how to successfully paraphrase\, summarize\, and directly quote the sources used for writing papers\, articles\, presentations\, speeches\, etc. Plagiarism in its various forms will be defined and discussed\, including Ramapo’s policy on academic integrity. Open to all students.  For more information\, contact Priscilla Tovey\, ptovey@ramapo.edu. \nRegister
URL:https://www.ramapo.edu/crw/event/avoiding-plagiarism-37/
LOCATION:Online
ORGANIZER;CN="Priscilla Tovey/Center for Reading &amp%3B Writing":MAILTO:ptovey@ramapo.edu
END:VEVENT
BEGIN:VEVENT
DTSTART;TZID=America/New_York:20260324T130000
DTEND;TZID=America/New_York:20260324T134500
DTSTAMP:20260426T001332
CREATED:20260114T183725Z
LAST-MODIFIED:20260116T174523Z
UID:10000338-1774357200-1774359900@www.ramapo.edu
SUMMARY:Avoiding Plagiarism
DESCRIPTION:This 45-minute workshop will address how to successfully paraphrase\, summarize\, and directly quote the sources used for writing papers\, articles\, presentations\, speeches\, etc. Plagiarism in its various forms will be defined and discussed\, including Ramapo’s policy on academic integrity. Open to all students.  For more information\, contact Priscilla Tovey\, ptovey@ramapo.edu. \nRegister
URL:https://www.ramapo.edu/crw/event/avoiding-plagiarism-36/
LOCATION:Learning Commons 101
ORGANIZER;CN="Priscilla Tovey/Center for Reading &amp%3B Writing":MAILTO:ptovey@ramapo.edu
END:VEVENT
BEGIN:VEVENT
DTSTART;TZID=America/New_York:20260311T120000
DTEND;TZID=America/New_York:20260311T124500
DTSTAMP:20260426T001332
CREATED:20260114T181516Z
LAST-MODIFIED:20260114T182825Z
UID:10000337-1773230400-1773233100@www.ramapo.edu
SUMMARY:Avoiding Plagiarism
DESCRIPTION:This 45-minute workshop will address how to successfully paraphrase\, summarize\, and directly quote the sources used for writing papers\, articles\, presentations\, speeches\, etc. Plagiarism in its various forms will be defined and discussed\, including Ramapo’s policy on academic integrity. Open to all students. For more information\, contact Priscilla Tovey\, ptovey@ramapo.edu. \nRegister
URL:https://www.ramapo.edu/crw/event/avoiding-plagiarism-35/
LOCATION:Online
ORGANIZER;CN="Priscilla Tovey/Center for Reading &amp%3B Writing":MAILTO:ptovey@ramapo.edu
END:VEVENT
BEGIN:VEVENT
DTSTART;TZID=America/New_York:20260310T130000
DTEND;TZID=America/New_York:20260310T134500
DTSTAMP:20260426T001332
CREATED:20260114T165959Z
LAST-MODIFIED:20260114T165959Z
UID:10000334-1773147600-1773150300@www.ramapo.edu
SUMMARY:MLA Documentation Style
DESCRIPTION:If you are writing an MLA paper\, this workshop is for you! Sponsored by the Center for Reading and Writing\, the workshop will address MLA documentation style\, from page formatting to in-text citations\, source integration\, and the Works Cited page. All students are welcome. For more information\, contact Priscilla Tovey\, ptovey@ramapo.edu.  \nRegister
URL:https://www.ramapo.edu/crw/event/mla-documentation-style-12/
LOCATION:Online
ORGANIZER;CN="Priscilla Tovey/Center for Reading &amp%3B Writing":MAILTO:ptovey@ramapo.edu
END:VEVENT
BEGIN:VEVENT
DTSTART;TZID=America/New_York:20260304T133000
DTEND;TZID=America/New_York:20260304T141500
DTSTAMP:20260426T001332
CREATED:20260114T180518Z
LAST-MODIFIED:20260227T144925Z
UID:10000336-1772631000-1772633700@www.ramapo.edu
SUMMARY:Avoiding Plagiarism
DESCRIPTION:This 45-minute workshop will address how to successfully paraphrase\, summarize\, and directly quote the sources used for writing papers\, articles\, presentations\, speeches\, etc. Plagiarism in its various forms will be defined and discussed\, including Ramapo’s policy on academic integrity. Open to all students.  For more information\, contact Priscilla Tovey\, ptovey@ramapo.edu. \nRegister
URL:https://www.ramapo.edu/crw/event/avoiding-plagiarism-34/
LOCATION:Online
ORGANIZER;CN="Priscilla Tovey/Center for Reading &amp%3B Writing":MAILTO:ptovey@ramapo.edu
END:VEVENT
BEGIN:VEVENT
DTSTART;TZID=America/New_York:20260303T130000
DTEND;TZID=America/New_York:20260303T134500
DTSTAMP:20260426T001332
CREATED:20260114T193246Z
LAST-MODIFIED:20260114T193246Z
UID:10000341-1772542800-1772545500@www.ramapo.edu
SUMMARY:Email Professionalism
DESCRIPTION:Let’s talk about how to write professional email messages!  Sponsored by the Center for Reading and Writing\, this student workshop will address effective strategies for email communication. Audience\, purpose\, tone\, and sentence clarity will be discussed in writing to college personnel\, as well as prospective and current employers. Open to all students. For more information\, please contact Priscilla Tovey\, ptovey@ramapo.edu. \nRegister
URL:https://www.ramapo.edu/crw/event/email-professionalism-5/
LOCATION:Online
ORGANIZER;CN="Priscilla Tovey/Center for Reading &amp%3B Writing":MAILTO:ptovey@ramapo.edu
END:VEVENT
BEGIN:VEVENT
DTSTART;TZID=America/New_York:20260217T110000
DTEND;TZID=America/New_York:20260217T114500
DTSTAMP:20260426T001332
CREATED:20260114T175312Z
LAST-MODIFIED:20260114T175312Z
UID:10000335-1771326000-1771328700@www.ramapo.edu
SUMMARY:Avoiding Plagiarism
DESCRIPTION:Sponsored by the Center for Reading and Writing\, this 45-minute workshop will address how to successfully paraphrase\, summarize\, and directly quote the sources used for writing papers\, articles\, presentations\, speeches\, etc. Plagiarism in its various forms will be defined and discussed\, including Ramapo’s policy on academic integrity. Open to all students. For more information\, contact Priscilla Tovey\, ptovey@ramapo.edu. \nRegister
URL:https://www.ramapo.edu/crw/event/avoiding-plagiarism-33/
LOCATION:Learning Commons 101
ORGANIZER;CN="Priscilla Tovey/Center for Reading &amp%3B Writing":MAILTO:ptovey@ramapo.edu
END:VEVENT
BEGIN:VEVENT
DTSTART;TZID=America/New_York:20260211T120000
DTEND;TZID=America/New_York:20260211T124500
DTSTAMP:20260426T001332
CREATED:20260114T165018Z
LAST-MODIFIED:20260114T165018Z
UID:10000333-1770811200-1770813900@www.ramapo.edu
SUMMARY:MLA Documentation Style
DESCRIPTION:If you are writing an MLA paper\, this workshop is for you! Sponsored by the Center for Reading and Writing\, the workshop will address MLA documentation style\, from page formatting to in-text citations\, source integration\, and the Works Cited page. All students are welcome. For more information\, contact Priscilla Tovey\, ptovey@ramapo.edu.  \nRegister
URL:https://www.ramapo.edu/crw/event/mla-documentation-style-11/
LOCATION:Learning Commons 101
ORGANIZER;CN="Priscilla Tovey/Center for Reading &amp%3B Writing":MAILTO:ptovey@ramapo.edu
END:VEVENT
BEGIN:VEVENT
DTSTART;TZID=America/New_York:20260128T130000
DTEND;TZID=America/New_York:20260128T134500
DTSTAMP:20260426T001332
CREATED:20260114T134911Z
LAST-MODIFIED:20260116T183846Z
UID:10000219-1769605200-1769607900@www.ramapo.edu
SUMMARY:College Success Strategies
DESCRIPTION:Sponsored by the Center for Reading and Writing\, this 45-minute workshop will address 5 key strategies for optimal academic performance\, from planning to using essential campus resources. Open to all students. \nRegister
URL:https://www.ramapo.edu/crw/event/college-success-strategies-4/
LOCATION:Learning Commons 101
ORGANIZER;CN="Priscilla Tovey/Center for Reading &amp%3B Writing":MAILTO:ptovey@ramapo.edu
END:VEVENT
BEGIN:VEVENT
DTSTART;TZID=America/New_York:20251202T130000
DTEND;TZID=America/New_York:20251202T134500
DTSTAMP:20260426T001332
CREATED:20250806T185540Z
LAST-MODIFIED:20250806T185540Z
UID:10000319-1764680400-1764683100@www.ramapo.edu
SUMMARY:Avoiding Plagiarism
DESCRIPTION:Sponsored by the Center for Reading and Writing\, this 45-minute workshop will address how to successfully paraphrase\, summarize\, and directly quote the sources used for writing papers\, articles\, presentations\, speeches\, etc. Plagiarism in its various forms will be defined and discussed\, including Ramapo’s policy on academic integrity. Open to all students.   \nRegister
URL:https://www.ramapo.edu/crw/event/avoiding-plagiarism-32/
LOCATION:Webex Virtual Meeting
ORGANIZER;CN="Priscilla Tovey/Center for Reading &amp%3B Writing":MAILTO:ptovey@ramapo.edu
END:VEVENT
BEGIN:VEVENT
DTSTART;TZID=America/New_York:20251118T130000
DTEND;TZID=America/New_York:20251118T134500
DTSTAMP:20260426T001332
CREATED:20250806T185002Z
LAST-MODIFIED:20250806T185002Z
UID:10000318-1763470800-1763473500@www.ramapo.edu
SUMMARY:Evaluating Sources: The Questions to Ask
DESCRIPTION:As college students\, you want to include the most reliable information in your papers\, projects\, and presentations\, but at times it can be difficult to discern crediblity. We are inundated with information through a wide variety of media. How do we determine which sources are trustworthy? This 45-minute workshop will help answer this question by addressing strategies for evaluating print and various online news sources.  We will discuss essential questions to pursue in finding reliable information.  All students are welcome.  \nRegister
URL:https://www.ramapo.edu/crw/event/evaluating-sources-the-questions-to-ask-9/
LOCATION:Webex Virtual Meeting
ORGANIZER;CN="Priscilla Tovey/Center for Reading &amp%3B Writing":MAILTO:ptovey@ramapo.edu
END:VEVENT
BEGIN:VEVENT
DTSTART;TZID=America/New_York:20251112T110000
DTEND;TZID=America/New_York:20251112T114500
DTSTAMP:20260426T001332
CREATED:20250806T154918Z
LAST-MODIFIED:20250806T154918Z
UID:10000317-1762945200-1762947900@www.ramapo.edu
SUMMARY:Avoiding Plagiarism
DESCRIPTION:Sponsored by the Center for Reading and Writing\, this 45-minute workshop will address how to successfully paraphrase\, summarize\, and directly quote the sources used for writing papers\, articles\, presentations\, speeches\, etc. Plagiarism in its various forms will be defined and discussed\, including Ramapo’s policy on academic integrity. Open to all students.   \nRegister
URL:https://www.ramapo.edu/crw/event/avoiding-plagiarism-31/
LOCATION:Learning Commons 101
ORGANIZER;CN="Priscilla Tovey/Center for Reading &amp%3B Writing":MAILTO:ptovey@ramapo.edu
END:VEVENT
BEGIN:VEVENT
DTSTART;TZID=America/New_York:20251029T110000
DTEND;TZID=America/New_York:20251029T114500
DTSTAMP:20260426T001332
CREATED:20250806T154250Z
LAST-MODIFIED:20250806T154250Z
UID:10000315-1761735600-1761738300@www.ramapo.edu
SUMMARY:Avoiding Plagiarism
DESCRIPTION:Sponsored by the Center for Reading and Writing\, this 45-minute workshop will address how to successfully paraphrase\, summarize\, and directly quote the sources used for writing papers\, articles\, presentations\, speeches\, etc. Plagiarism in its various forms will be defined and discussed\, including Ramapo’s policy on academic integrity. Open to all students.   \nRegister
URL:https://www.ramapo.edu/crw/event/avoiding-plagiarism-30/
LOCATION:Webex Virtual Meeting
ORGANIZER;CN="Priscilla Tovey/Center for Reading &amp%3B Writing":MAILTO:ptovey@ramapo.edu
END:VEVENT
BEGIN:VEVENT
DTSTART;TZID=America/New_York:20251015T110000
DTEND;TZID=America/New_York:20251015T114500
DTSTAMP:20260426T001332
CREATED:20250806T151700Z
LAST-MODIFIED:20250806T191634Z
UID:10000314-1760526000-1760528700@www.ramapo.edu
SUMMARY:MLA Style
DESCRIPTION:If you are writing an MLA paper\, this workshop is for you! Sponsored by the Center for Reading and Writing\, the workshop will address MLA documentation style\, from page formatting to in-text citations\, source integration\, and the Works Cited page. All students are welcome. \nRegister
URL:https://www.ramapo.edu/crw/event/mla-style-7/
LOCATION:Webex Virtual Meeting
ORGANIZER;CN="Priscilla Tovey/Center for Reading &amp%3B Writing":MAILTO:ptovey@ramapo.edu
END:VEVENT
BEGIN:VEVENT
DTSTART;TZID=America/New_York:20250917T110000
DTEND;TZID=America/New_York:20250917T114500
DTSTAMP:20260426T001332
CREATED:20250806T144855Z
LAST-MODIFIED:20250910T152924Z
UID:10000312-1758106800-1758109500@www.ramapo.edu
SUMMARY:Time Management
DESCRIPTION:You have a lot to do\, so planning is essential. Learn ways to become more efficient and reduce your stress. Sponsored by the Center for Reading and Writing\, this 45-minute workshop will address time-management strategies and tools\, including goal-setting\, using an organizer\, planning weekly\, addressing priorities\, and limiting distractions. All students are welcome.  \nRegister
URL:https://www.ramapo.edu/crw/event/time-management-8/
LOCATION:Webex Virtual Meeting
ORGANIZER;CN="Priscilla Tovey/Center for Reading &amp%3B Writing":MAILTO:ptovey@ramapo.edu
END:VEVENT
BEGIN:VEVENT
DTSTART;TZID=America/New_York:20250430T100000
DTEND;TZID=America/New_York:20250430T104500
DTSTAMP:20260426T001332
CREATED:20250114T212446Z
LAST-MODIFIED:20250114T212446Z
UID:10000176-1746007200-1746009900@www.ramapo.edu
SUMMARY:Avoiding Plagiarism
DESCRIPTION:Sponsored by the CRW\, this 45-minute workshop will address how to successfully paraphrase\, summarize\, and directly quote the sources used for writing papers\, articles\, presentations\, speeches\, etc. Plagiarism in its various forms will be defined and discussed\, including Ramapo’s policy on academic integrity. Open to all students.  For more information\, contact Priscilla Tovey\, ptovey@ramapo.edu. \nRegister
URL:https://www.ramapo.edu/crw/event/avoiding-plagiarism-28/
LOCATION:Webex Virtual Meeting
ORGANIZER;CN="Priscilla Tovey/Center for Reading &amp%3B Writing":MAILTO:ptovey@ramapo.edu
END:VEVENT
BEGIN:VEVENT
DTSTART;TZID=America/New_York:20250417T131500
DTEND;TZID=America/New_York:20250417T134500
DTSTAMP:20260426T001332
CREATED:20250115T173856Z
LAST-MODIFIED:20250115T173856Z
UID:10000284-1744895700-1744897500@www.ramapo.edu
SUMMARY:Writing about Research
DESCRIPTION:Sponsored by the Center for Reading and Writing\, this 45-minute workshop will address planning and drafting strategies for writing about research. Learn how to integrate research into a paper through quoting\, paraphrasing\, and summarizing source information.  All students are welcomed. For more information\, contact Ramon Reyes\, rreyes@ramapo.edu \nRegister
URL:https://www.ramapo.edu/crw/event/writing-about-research-7/
LOCATION:Learning Commons 101
ORGANIZER;CN="Priscilla Tovey/Center for Reading &amp%3B Writing":MAILTO:ptovey@ramapo.edu
END:VEVENT
BEGIN:VEVENT
DTSTART;TZID=America/New_York:20250416T110000
DTEND;TZID=America/New_York:20250416T114500
DTSTAMP:20260426T001332
CREATED:20250131T194253Z
LAST-MODIFIED:20250203T193342Z
UID:10000297-1744801200-1744803900@www.ramapo.edu
SUMMARY:Avoiding Plagiarism
DESCRIPTION:Sponsored by the Center for Reading and Writing\, this 45-minute workshop will address how to successfully paraphrase\, summarize\, and directly quote the sources used for writing papers\, articles\, presentations\, speeches\, etc. Plagiarism in its various forms will be defined and discussed\, including Ramapo’s policy on academic integrity. Open to all students.  For more information\, contact Priscilla Tovey\, ptovey@ramapo.edu. \nRegister
URL:https://www.ramapo.edu/crw/event/avoiding-plagiarism-29/
LOCATION:Webex Virtual Meeting
ORGANIZER;CN="Priscilla Tovey/Center for Reading &amp%3B Writing":MAILTO:ptovey@ramapo.edu
END:VEVENT
BEGIN:VEVENT
DTSTART;TZID=America/New_York:20250409T130000
DTEND;TZID=America/New_York:20250409T130000
DTSTAMP:20260426T001332
CREATED:20250204T142646Z
LAST-MODIFIED:20250204T142716Z
UID:10000300-1744203600-1744203600@www.ramapo.edu
SUMMARY:Information Literacy for the Sciences
DESCRIPTION:In this session\, we will learn about the types of sources you might need for your science course assignments\, where to find appropriate sources\, and how to access them\, if they are not free online. Not all studies are created equal – we’ll take a look at some quick ways to tell if the source/study may be unreliable. We’ll finish with some tips and tricks for reading scientific papers so that you don’t spend precious time struggling through a paper only to realize it doesn’t provide you with information you can use! For more information\, contact Priscilla Tovey\, ptovey@ramapo.edu. \nRegister
URL:https://www.ramapo.edu/crw/event/information-literacy-for-the-sciences-3/
LOCATION:Webex Virtual Meeting
ORGANIZER;CN="Priscilla Tovey/Center for Reading &amp%3B Writing":MAILTO:ptovey@ramapo.edu
END:VEVENT
BEGIN:VEVENT
DTSTART;TZID=America/New_York:20250408T140000
DTEND;TZID=America/New_York:20250408T144500
DTSTAMP:20260426T001332
CREATED:20250114T212215Z
LAST-MODIFIED:20250114T212215Z
UID:10000174-1744120800-1744123500@www.ramapo.edu
SUMMARY:MLA Documentation Style
DESCRIPTION:This 45-minute workshop will address how to use MLA documentation style\, from page formatting to in-text citations\, source integration\, and the Works Cited page.  All students are welcome. For more information\, contact Priscilla Tovey\, ptovey@ramapo.edu.  \nRegister
URL:https://www.ramapo.edu/crw/event/mla-documentation-style-9/
LOCATION:Webex Virtual Meeting
ORGANIZER;CN="Priscilla Tovey/Center for Reading &amp%3B Writing":MAILTO:ptovey@ramapo.edu
END:VEVENT
BEGIN:VEVENT
DTSTART;TZID=America/New_York:20250403T140000
DTEND;TZID=America/New_York:20250403T144500
DTSTAMP:20260426T001332
CREATED:20250115T171333Z
LAST-MODIFIED:20250115T171333Z
UID:10000285-1743688800-1743691500@www.ramapo.edu
SUMMARY:Writing about Research
DESCRIPTION:Sponsored by the Center for Reading and Writing\, this 45-minute workshop will address planning and drafting strategies for writing about research. Learn how to integrate research into a paper through quoting\, paraphrasing\, and summarizing source information.  All students are welcomed. For more information\, contact Ramon Reyes\, rreyes@ramapo.edu. \nRegister
URL:https://www.ramapo.edu/crw/event/writing-about-research-6/
LOCATION:Webex Virtual Meeting
ORGANIZER;CN="Priscilla Tovey/Center for Reading &amp%3B Writing":MAILTO:ptovey@ramapo.edu
END:VEVENT
BEGIN:VEVENT
DTSTART;TZID=America/New_York:20250401T140000
DTEND;TZID=America/New_York:20250401T144500
DTSTAMP:20260426T001332
CREATED:20250114T211946Z
LAST-MODIFIED:20250114T211946Z
UID:10000172-1743516000-1743518700@www.ramapo.edu
SUMMARY:Evaluating Sources
DESCRIPTION:This 45-minute workshop will address strategies for evaluating print and news sources\, including authority\, accuracy\, reliability\, and timeliness.  Fake news\, what it is\, and tips on how to identify it will also be discussed.  All students are welcome.  For more information\, contact  Priscilla Tovey\, ptovey@ramapo.edu. \nRegister
URL:https://www.ramapo.edu/crw/event/evaluating-sources-2/
LOCATION:Webex Virtual Meeting
ORGANIZER;CN="Priscilla Tovey/Center for Reading &amp%3B Writing":MAILTO:ptovey@ramapo.edu
END:VEVENT
BEGIN:VEVENT
DTSTART;TZID=America/New_York:20250327T131500
DTEND;TZID=America/New_York:20250327T140000
DTSTAMP:20260426T001332
CREATED:20250115T163303Z
LAST-MODIFIED:20250115T165403Z
UID:10000182-1743081300-1743084000@www.ramapo.edu
SUMMARY:Improving Sentences
DESCRIPTION:Sponsored by the Center for Reading and Writing\, this 45-minute workshop will address proofreading and editing sentences\, focusing on some of the most common errors: fragments\, run-ons\, and comma splices. For more information\, contact Priscilla Tovey\, ptovey@ramapo.edu. \nRegister \n 
URL:https://www.ramapo.edu/crw/event/improving-sentences-13/
LOCATION:Webex Virtual Meeting
ORGANIZER;CN="Priscilla Tovey/Center for Reading &amp%3B Writing":MAILTO:ptovey@ramapo.edu
END:VEVENT
BEGIN:VEVENT
DTSTART;TZID=America/New_York:20250326T140000
DTEND;TZID=America/New_York:20250326T144500
DTSTAMP:20260426T001332
CREATED:20250114T211539Z
LAST-MODIFIED:20250114T211552Z
UID:10000170-1742997600-1743000300@www.ramapo.edu
SUMMARY:Avoiding Plagiarism
DESCRIPTION:Sponsored by the CRW\, this 45-minute workshop will address how to successfully paraphrase\, summarize\, and directly quote the sources used for writing papers\, articles\, presentations\, speeches\, etc. Plagiarism in its various forms will be defined and discussed\, including Ramapo’s policy on academic integrity. Open to all students.  For more information\, contact Priscilla Tovey\, ptovey@ramapo.edu. \nRegister
URL:https://www.ramapo.edu/crw/event/avoiding-plagiarism-27/
LOCATION:Learning Commons 101
ORGANIZER;CN="Priscilla Tovey/Center for Reading &amp%3B Writing":MAILTO:ptovey@ramapo.edu
END:VEVENT
BEGIN:VEVENT
DTSTART;TZID=America/New_York:20250324T131500
DTEND;TZID=America/New_York:20250324T140000
DTSTAMP:20260426T001332
CREATED:20250115T164340Z
LAST-MODIFIED:20250115T164340Z
UID:10000277-1742822100-1742824800@www.ramapo.edu
SUMMARY:Writing about Research
DESCRIPTION:Sponsored by the Center for Reading and Writing\, this 45-minute workshop will address planning and drafting strategies for writing about research. Learn how to integrate research into a paper through quoting\, paraphrasing\, and summarizing source information.  All students are welcomed. For more information\, contact Ramon Reyes\, rreyes@ramapo.edu. \nRegister \n 
URL:https://www.ramapo.edu/crw/event/writing-about-research-5/
LOCATION:Learning Commons 101
ORGANIZER;CN="Priscilla Tovey/Center for Reading &amp%3B Writing":MAILTO:ptovey@ramapo.edu
END:VEVENT
BEGIN:VEVENT
DTSTART;TZID=America/New_York:20250313T140000
DTEND;TZID=America/New_York:20250313T140000
DTSTAMP:20260426T001332
CREATED:20250228T142930Z
LAST-MODIFIED:20250228T143315Z
UID:10000301-1741874400-1741874400@www.ramapo.edu
SUMMARY:Time Management
DESCRIPTION:You have a lot to do\, so planning is essential. Learn ways to become more efficient and reduce your stress. Sponsored by the Center for Reading and Writing\, this 45-minute workshop will address time-management strategies and tools\, including goal-setting\, using an organizer\, planning weekly\, addressing priorities\, and limiting distractions. All students are welcome. For more information\, contact Priscilla Tovey\, ptovey@ramapo.edu. \nRegister
URL:https://www.ramapo.edu/crw/event/time-management-7/
LOCATION:Webex Virtual Meeting
ORGANIZER;CN="Priscilla Tovey/Center for Reading &amp%3B Writing":MAILTO:ptovey@ramapo.edu
END:VEVENT
BEGIN:VEVENT
DTSTART;TZID=America/New_York:20250306T131500
DTEND;TZID=America/New_York:20250306T140000
DTSTAMP:20260426T001332
CREATED:20240826T195559Z
LAST-MODIFIED:20250115T165459Z
UID:10000262-1741266900-1741269600@www.ramapo.edu
SUMMARY:Improving Sentences
DESCRIPTION:Sponsored by the Center for Reading and Writing\, this 45-minute workshop will address proofreading and editing sentences\, focusing on some of the most common errors: fragments\, run-ons\, and comma splices. For more information\, contact Priscilla Tovey\, ptovey@ramapo.edu. \n\nRegister \n 
URL:https://www.ramapo.edu/crw/event/improving-sentences-12/
LOCATION:Learning Commons 101
ORGANIZER;CN="Priscilla Tovey/Center for Reading &amp%3B Writing":MAILTO:ptovey@ramapo.edu
END:VEVENT
BEGIN:VEVENT
DTSTART;TZID=America/New_York:20250305T110000
DTEND;TZID=America/New_York:20250305T114500
DTSTAMP:20260426T001332
CREATED:20250114T211107Z
LAST-MODIFIED:20250114T211107Z
UID:10000168-1741172400-1741175100@www.ramapo.edu
SUMMARY:MLA Documentation Style
DESCRIPTION:This 45-minute workshop will address how to use MLA documentation style\, from page formatting to in-text citations\, source integration\, and the Works Cited page.  All students are welcome. For more information\, contact Priscilla Tovey\, ptovey@ramapo.edu.  \nRegister
URL:https://www.ramapo.edu/crw/event/mla-documentation-style-8/
LOCATION:Webex Virtual Meeting
ORGANIZER;CN="Priscilla Tovey/Center for Reading &amp%3B Writing":MAILTO:ptovey@ramapo.edu
END:VEVENT
BEGIN:VEVENT
DTSTART;TZID=America/New_York:20250304T131500
DTEND;TZID=America/New_York:20250304T140000
DTSTAMP:20260426T001332
CREATED:20250114T210632Z
LAST-MODIFIED:20250114T210632Z
UID:10000166-1741094100-1741096800@www.ramapo.edu
SUMMARY:Avoiding Plagiarism
DESCRIPTION:Sponsored by the CRW\, this 45-minute workshop will address how to successfully paraphrase\, summarize\, and directly quote the sources used for writing papers\, articles\, presentations\, speeches\, etc. Plagiarism in its various forms will be defined and discussed\, including Ramapo’s policy on academic integrity. Open to all students.  For more information\, contact Priscilla Tovey\, ptovey@ramapo.edu. \nRegister
URL:https://www.ramapo.edu/crw/event/avoiding-plagiarism-26/
LOCATION:Webex Virtual Meeting
ORGANIZER;CN="Priscilla Tovey/Center for Reading &amp%3B Writing":MAILTO:ptovey@ramapo.edu
END:VEVENT
END:VCALENDAR