BEGIN:VCALENDAR
VERSION:2.0
PRODID:-//Center for Reading and Writing - ECPv6.15.17.1//NONSGML v1.0//EN
CALSCALE:GREGORIAN
METHOD:PUBLISH
X-WR-CALNAME:Center for Reading and Writing
X-ORIGINAL-URL:https://www.ramapo.edu/crw
X-WR-CALDESC:Events for Center for Reading and Writing
REFRESH-INTERVAL;VALUE=DURATION:PT1H
X-Robots-Tag:noindex
X-PUBLISHED-TTL:PT1H
BEGIN:VTIMEZONE
TZID:America/New_York
BEGIN:DAYLIGHT
TZOFFSETFROM:-0500
TZOFFSETTO:-0400
TZNAME:EDT
DTSTART:20230312T070000
END:DAYLIGHT
BEGIN:STANDARD
TZOFFSETFROM:-0400
TZOFFSETTO:-0500
TZNAME:EST
DTSTART:20231105T060000
END:STANDARD
BEGIN:DAYLIGHT
TZOFFSETFROM:-0500
TZOFFSETTO:-0400
TZNAME:EDT
DTSTART:20240310T070000
END:DAYLIGHT
BEGIN:STANDARD
TZOFFSETFROM:-0400
TZOFFSETTO:-0500
TZNAME:EST
DTSTART:20241103T060000
END:STANDARD
BEGIN:DAYLIGHT
TZOFFSETFROM:-0500
TZOFFSETTO:-0400
TZNAME:EDT
DTSTART:20250309T070000
END:DAYLIGHT
BEGIN:STANDARD
TZOFFSETFROM:-0400
TZOFFSETTO:-0500
TZNAME:EST
DTSTART:20251102T060000
END:STANDARD
END:VTIMEZONE
BEGIN:VEVENT
DTSTART;TZID=America/New_York:20240304T131500
DTEND;TZID=America/New_York:20240304T140000
DTSTAMP:20260425T105315
CREATED:20240110T175557Z
LAST-MODIFIED:20240110T180537Z
UID:10000077-1709558100-1709560800@www.ramapo.edu
SUMMARY:Writing about Research
DESCRIPTION:Sponsored by the Center for Reading and Writing\, this 45-minute workshop will address planning and drafting strategies for writing about research. Learn how to integrate research into a paper through quoting\, paraphrasing\, and summarizing source information.  All students are welcomed. For more information\, contact Ramon Reyes\, rreyes@ramapo.edu. \nRegister
URL:https://www.ramapo.edu/crw/event/writing-about-research-2/
LOCATION:Learning Commons 101
END:VEVENT
BEGIN:VEVENT
DTSTART;TZID=America/New_York:20240306T110000
DTEND;TZID=America/New_York:20240306T114500
DTSTAMP:20260425T105315
CREATED:20240108T164439Z
LAST-MODIFIED:20240108T181744Z
UID:10000123-1709722800-1709725500@www.ramapo.edu
SUMMARY:MLA Style: When and How to Cite Sources
DESCRIPTION:This 45-minute workshop will address how to use MLA documentation style\, from page formatting to in-text citations\, source integration\, and the Works Cited page.  All students are welcome. For more information\, contact Priscilla Tovey\, ptovey@ramapo.edu.  \nRegister
URL:https://www.ramapo.edu/crw/event/mla-style-when-and-how-to-cite-sources-3/
LOCATION:Learning Commons 101
ORGANIZER;CN="Priscilla Tovey/Center for Reading &amp%3B Writing":MAILTO:ptovey@ramapo.edu
END:VEVENT
BEGIN:VEVENT
DTSTART;TZID=America/New_York:20240311T131500
DTEND;TZID=America/New_York:20240311T140000
DTSTAMP:20260425T105315
CREATED:20240108T174248Z
LAST-MODIFIED:20240110T175228Z
UID:10000130-1710162900-1710165600@www.ramapo.edu
SUMMARY:Improving Sentences
DESCRIPTION:Sponsored by the Center for Reading and Writing\, this 45-minute workshop will address proofreading and editing sentences\,focusing on some of the most common errors: fragments\, run-ons\, and comma splices. Open to all students. For more information\, contact Priscilla Tovey\, ptovey@ramapo.edu.  \nRegister
URL:https://www.ramapo.edu/crw/event/improving-sentences-10/
LOCATION:Webex Virtual Meeting
END:VEVENT
BEGIN:VEVENT
DTSTART;TZID=America/New_York:20240313T113000
DTEND;TZID=America/New_York:20240313T121500
DTSTAMP:20260425T105315
CREATED:20240108T144432Z
LAST-MODIFIED:20240108T144432Z
UID:10000067-1710329400-1710332100@www.ramapo.edu
SUMMARY:Critical Reading Strategies
DESCRIPTION:This 45-minute workshop will address how to critically read a text\, including pre-viewing\, questioning\, annotating\, using background knowledge\, and rereading. All students are welcome. For more information\, contact Priscilla Tovey\, ptovey@ramapo.edu.  \nRegister
URL:https://www.ramapo.edu/crw/event/critical-reading-strategies-14/
LOCATION:Learning Commons 101
END:VEVENT
BEGIN:VEVENT
DTSTART;TZID=America/New_York:20240313T150000
DTEND;TZID=America/New_York:20240313T154500
DTSTAMP:20260425T105315
CREATED:20240108T170419Z
LAST-MODIFIED:20240108T180522Z
UID:10000127-1710342000-1710344700@www.ramapo.edu
SUMMARY:Evaluating Sources: The Questions to Ask
DESCRIPTION:How do you determine if a source you’re using for a paper\, presentation\, speech\, article\, or general information is credible? This 45-minute workshop will address strategies for evaluating print and news sources\, including authority\, accuracy\, reliability\, and timeliness. All students are welcome.  For more information\, contact  Priscilla Tovey\, ptovey@ramapo.edu. \nRegister
URL:https://www.ramapo.edu/crw/event/evaluating-sources-the-questions-to-ask-8/
LOCATION:Webex Virtual Meeting
ORGANIZER;CN="Priscilla Tovey/Center for Reading &amp%3B Writing":MAILTO:ptovey@ramapo.edu
END:VEVENT
BEGIN:VEVENT
DTSTART;TZID=America/New_York:20240325T131500
DTEND;TZID=America/New_York:20240325T140000
DTSTAMP:20260425T105315
CREATED:20240108T182741Z
LAST-MODIFIED:20240108T182741Z
UID:10000134-1711372500-1711375200@www.ramapo.edu
SUMMARY:MLA Style: How and When to Cite Sources
DESCRIPTION:This 45-minute workshop will address how to use MLA documentation style\, from page formatting to in-text citations\, source integration\, and the Works Cited page.  All students are welcome. For more information\, contact Priscilla Tovey\, ptovey@ramapo.edu.  \nRegister
URL:https://www.ramapo.edu/crw/event/mla-style-how-and-when-to-cite-sources/
LOCATION:Webex Virtual Meeting
ORGANIZER;CN="Priscilla Tovey/Center for Reading &amp%3B Writing":MAILTO:ptovey@ramapo.edu
END:VEVENT
BEGIN:VEVENT
DTSTART;TZID=America/New_York:20240327T113000
DTEND;TZID=America/New_York:20240327T121500
DTSTAMP:20260425T105315
CREATED:20240108T145928Z
LAST-MODIFIED:20240108T145928Z
UID:10000066-1711539000-1711541700@www.ramapo.edu
SUMMARY:Note Taking Strategies
DESCRIPTION:We all know it is important to take notes during class and while reading. Attend this 45-minute workshop to learn not only how note-taking helps improve your academic performance\, but also for tips\, tricks\, and methods that will help you become an effective note-taker. This workshop is open to all students. For more information\, contact Priscilla Tovey\, ptovey@ramapo.edu. \nRegister
URL:https://www.ramapo.edu/crw/event/note-taking-strategies-3/
LOCATION:Learning Commons 101
END:VEVENT
BEGIN:VEVENT
DTSTART;TZID=America/New_York:20240327T140000
DTEND;TZID=America/New_York:20240327T150000
DTSTAMP:20260425T105315
CREATED:20240108T163237Z
LAST-MODIFIED:20240110T160902Z
UID:10000239-1711548000-1711551600@www.ramapo.edu
SUMMARY:APA Style: When and How to Cite Sources
DESCRIPTION:Sponsored by the Center for Reading and Writing\, this 45-minute workshop will address how to use APA documentation style\, including page formatting\, in-text citations\, and references. All students are welcome. For more information\, contact Priscilla Tovey\, ptovey@ramapo.edu.  \nRegister \nRegister
URL:https://www.ramapo.edu/crw/event/apa-documentation-style-12/
LOCATION:Learning Commons 101
END:VEVENT
BEGIN:VEVENT
DTSTART;TZID=America/New_York:20240328T131500
DTEND;TZID=America/New_York:20240328T140000
DTSTAMP:20260425T105315
CREATED:20240108T150117Z
LAST-MODIFIED:20240108T150117Z
UID:10000233-1711631700-1711634400@www.ramapo.edu
SUMMARY:Annotating and Outlining
DESCRIPTION:This 45-minute workshop addresses strategies for annotating and outlining a text. Critical thinking is emphasized\, including discerning the author’s purpose\, evaluating claims\, raising questions\, and using prior knowledge in actively working with a text.  For more information\, contact Priscilla Tovey\, ptovey@ramapo.edu. \nRegister
URL:https://www.ramapo.edu/crw/event/annotating-and-outlining-11/
LOCATION:Learning Commons 101
END:VEVENT
END:VCALENDAR