BEGIN:VCALENDAR
VERSION:2.0
PRODID:-//Center for Reading and Writing - ECPv6.15.17.1//NONSGML v1.0//EN
CALSCALE:GREGORIAN
METHOD:PUBLISH
X-WR-CALNAME:Center for Reading and Writing
X-ORIGINAL-URL:https://www.ramapo.edu/crw
X-WR-CALDESC:Events for Center for Reading and Writing
REFRESH-INTERVAL;VALUE=DURATION:PT1H
X-Robots-Tag:noindex
X-PUBLISHED-TTL:PT1H
BEGIN:VTIMEZONE
TZID:America/New_York
BEGIN:DAYLIGHT
TZOFFSETFROM:-0500
TZOFFSETTO:-0400
TZNAME:EDT
DTSTART:20200308T070000
END:DAYLIGHT
BEGIN:STANDARD
TZOFFSETFROM:-0400
TZOFFSETTO:-0500
TZNAME:EST
DTSTART:20201101T060000
END:STANDARD
BEGIN:DAYLIGHT
TZOFFSETFROM:-0500
TZOFFSETTO:-0400
TZNAME:EDT
DTSTART:20210314T070000
END:DAYLIGHT
BEGIN:STANDARD
TZOFFSETFROM:-0400
TZOFFSETTO:-0500
TZNAME:EST
DTSTART:20211107T060000
END:STANDARD
BEGIN:DAYLIGHT
TZOFFSETFROM:-0500
TZOFFSETTO:-0400
TZNAME:EDT
DTSTART:20220313T070000
END:DAYLIGHT
BEGIN:STANDARD
TZOFFSETFROM:-0400
TZOFFSETTO:-0500
TZNAME:EST
DTSTART:20221106T060000
END:STANDARD
END:VTIMEZONE
BEGIN:VEVENT
DTSTART;TZID=America/New_York:20210913T131500
DTEND;TZID=America/New_York:20210913T140000
DTSTAMP:20260425T210945
CREATED:20210824T193434Z
LAST-MODIFIED:20210824T193434Z
UID:10000131-1631538900-1631541600@www.ramapo.edu
SUMMARY:Study Skills to Start the Semester Strong
DESCRIPTION:This 45-minute workshop will address valuable strategies for academic success\, including note-taking\, annotating\, managing time\, and taking care of yourself. Tips on where\, when\, and how to study will also be discussed. Open to all students. For more information\, contact Priscilla Tovey\, ptovey@ramapo.edu. \nRegister
URL:https://www.ramapo.edu/crw/event/study-skills-to-start-the-semester-strong-3/
LOCATION:Webex Virtual Meeting
END:VEVENT
BEGIN:VEVENT
DTSTART;TZID=America/New_York:20210915T140000
DTEND;TZID=America/New_York:20210915T144500
DTSTAMP:20260425T210945
CREATED:20210824T193700Z
LAST-MODIFIED:20210824T195658Z
UID:10000133-1631714400-1631717100@www.ramapo.edu
SUMMARY:Critical Reading Strategies
DESCRIPTION:This 45-minute workshop will address how to critically read a text\, including pre-viewing\, questioning\, annotating\, using background knowledge\, and rereading. All students are welcome. For more information\, contact Priscilla Tovey\, ptovey@ramapo.edu.  \nRegister
URL:https://www.ramapo.edu/crw/event/critical-reading-strategies-5/
LOCATION:Webex Virtual Meeting
END:VEVENT
BEGIN:VEVENT
DTSTART;TZID=America/New_York:20210915T150000
DTEND;TZID=America/New_York:20210915T154500
DTSTAMP:20260425T210945
CREATED:20210903T200447Z
LAST-MODIFIED:20210903T200649Z
UID:10000145-1631718000-1631720700@www.ramapo.edu
SUMMARY:Academic Success Strategies
DESCRIPTION:This 45-minute workshop will address 5 key strategies for optimal academic performance\, from planning to using essential campus resources. Open to all students. For more information\, contact Priscilla Tovey\, ptovey@ramapo.edu \nRegister
URL:https://www.ramapo.edu/crw/event/academic-success-strategies-2/
END:VEVENT
BEGIN:VEVENT
DTSTART;TZID=America/New_York:20210920T131500
DTEND;TZID=America/New_York:20210920T140000
DTSTAMP:20260425T210945
CREATED:20210824T193940Z
LAST-MODIFIED:20210824T193940Z
UID:10000135-1632143700-1632146400@www.ramapo.edu
SUMMARY:Note Taking
DESCRIPTION:We all know it is important to take notes during class and while reading. Attend this 45-minute workshop to learn not only how note-taking helps improve your academic performance\, but also for tips\, tricks\, and methods that will help you become an effective note-taker.  This workshop is open to all students. For more information\, contact Priscilla Tovey\, ptovey@ramapo.edu. \nRegister
URL:https://www.ramapo.edu/crw/event/note-taking-3/
LOCATION:Webex Virtual Meeting
END:VEVENT
BEGIN:VEVENT
DTSTART;TZID=America/New_York:20210921T080000
DTEND;TZID=America/New_York:20210921T170000
DTSTAMP:20260425T210945
CREATED:20210921T161235Z
LAST-MODIFIED:20210921T161235Z
UID:10000128-1632211200-1632243600@www.ramapo.edu
SUMMARY:Developing the Argument and Thesis
DESCRIPTION:This 45-minute workshop will address how to develop a thesis statement from the inside out.  Strategies for working with sources and developing ideas that lead to shaping a thesis statement will be discussed. All students welcome. For more information\, contact Priscilla Tovey\, ptovey@ramapo.edu. \nRegister
URL:https://www.ramapo.edu/crw/event/developing-the-argument-and-thesis-4/
END:VEVENT
BEGIN:VEVENT
DTSTART;TZID=America/New_York:20210923T131500
DTEND;TZID=America/New_York:20210923T140000
DTSTAMP:20260425T210945
CREATED:20210907T195727Z
LAST-MODIFIED:20210907T201445Z
UID:10000153-1632402900-1632405600@www.ramapo.edu
SUMMARY:Developing the Argument and Thesis
DESCRIPTION:This 45-minute workshop will address how to develop a thesis statement from the inside out.  Strategies for working with sources and developing ideas that lead to shaping a thesis statement will be discussed. All students welcome. For more information\, contact Priscilla Tovey\, ptovey@ramapo.edu. \nRegister
URL:https://www.ramapo.edu/crw/event/developing-the-argument-and-thesis/
END:VEVENT
BEGIN:VEVENT
DTSTART;TZID=America/New_York:20210927T131500
DTEND;TZID=America/New_York:20210927T140000
DTSTAMP:20260425T210945
CREATED:20210824T194250Z
LAST-MODIFIED:20210824T194250Z
UID:10000137-1632748500-1632751200@www.ramapo.edu
SUMMARY:Annotating and Outlining
DESCRIPTION:This 45-minute workshop will address strategies for annotating and outlining a text. Critical thinking will be emphasized\, including discerning author’s purpose\, evaluating claims\, raising questions\, and using prior knowledge in actively working with a text.  For more information\, contact Priscilla Tovey\, ptovey@ramapo.edu.  \nRegister
URL:https://www.ramapo.edu/crw/event/annotating-and-outlining-4/
LOCATION:Webex Virtual Meeting
END:VEVENT
BEGIN:VEVENT
DTSTART;TZID=America/New_York:20210930T131500
DTEND;TZID=America/New_York:20210930T140000
DTSTAMP:20260425T210945
CREATED:20210903T201831Z
LAST-MODIFIED:20210903T210403Z
UID:10000146-1633007700-1633010400@www.ramapo.edu
SUMMARY:Avoiding Plagiarism Workshop
DESCRIPTION:This 45-minute workshop will address how to successfully paraphrase\, summarize\, and directly quote the sources used when writing papers\, articles\, presentations\, speeches\, etc. Plagiarism in its various forms will be defined and discussed\, including Ramapo’s policy on academic integrity. Open to all students. For more information\, contact Priscilla Tovey\, ptovey@ramapo.edu. \nRegister
URL:https://www.ramapo.edu/crw/event/avoiding-plagiarism-workshop/
END:VEVENT
END:VCALENDAR