BEGIN:VCALENDAR
VERSION:2.0
PRODID:-//Center for Reading and Writing - ECPv6.15.17.1//NONSGML v1.0//EN
CALSCALE:GREGORIAN
METHOD:PUBLISH
X-ORIGINAL-URL:https://www.ramapo.edu/crw
X-WR-CALDESC:Events for Center for Reading and Writing
REFRESH-INTERVAL;VALUE=DURATION:PT1H
X-Robots-Tag:noindex
X-PUBLISHED-TTL:PT1H
BEGIN:VTIMEZONE
TZID:America/New_York
BEGIN:DAYLIGHT
TZOFFSETFROM:-0500
TZOFFSETTO:-0400
TZNAME:EDT
DTSTART:20220313T070000
END:DAYLIGHT
BEGIN:STANDARD
TZOFFSETFROM:-0400
TZOFFSETTO:-0500
TZNAME:EST
DTSTART:20221106T060000
END:STANDARD
BEGIN:DAYLIGHT
TZOFFSETFROM:-0500
TZOFFSETTO:-0400
TZNAME:EDT
DTSTART:20230312T070000
END:DAYLIGHT
BEGIN:STANDARD
TZOFFSETFROM:-0400
TZOFFSETTO:-0500
TZNAME:EST
DTSTART:20231105T060000
END:STANDARD
BEGIN:DAYLIGHT
TZOFFSETFROM:-0500
TZOFFSETTO:-0400
TZNAME:EDT
DTSTART:20240310T070000
END:DAYLIGHT
BEGIN:STANDARD
TZOFFSETFROM:-0400
TZOFFSETTO:-0500
TZNAME:EST
DTSTART:20241103T060000
END:STANDARD
END:VTIMEZONE
BEGIN:VEVENT
DTSTART;TZID=America/New_York:20231025T111500
DTEND;TZID=America/New_York:20231025T120000
DTSTAMP:20260425T131743
CREATED:20230906T151207Z
LAST-MODIFIED:20230906T151207Z
UID:10000079-1698232500-1698235200@www.ramapo.edu
SUMMARY:Critical Reading Strategies
DESCRIPTION:This 45-minute workshop will address how to critically read a text\, including pre-viewing\, questioning\, annotating\, using background knowledge\, and rereading. All students are welcome. For more information\, contact Priscilla Tovey\, ptovey@ramapo.edu. \nRegister \nRegister
URL:https://www.ramapo.edu/crw/event/critical-reading-strategies-13/
LOCATION:Learning Commons 101
END:VEVENT
BEGIN:VEVENT
DTSTART;TZID=America/New_York:20231025T140000
DTEND;TZID=America/New_York:20231025T144500
DTSTAMP:20260425T131743
CREATED:20230906T164834Z
LAST-MODIFIED:20230906T164834Z
UID:10000235-1698242400-1698245100@www.ramapo.edu
SUMMARY:Improving Sentences
DESCRIPTION:Sponsored by the Center for Reading and Writing\, this 45-minute workshop will address proofreading and editing sentences\,focusing on some of the most common errors: fragments\, run-ons\, and comma splices.  Students can register at this link: https://www.ramapo.edu/crw/workshops/.   For more information\, contact Priscilla Tovey\, ptovey@ramapo.edu.  \nRegister
URL:https://www.ramapo.edu/crw/event/improving-sentences-7/
LOCATION:Webex Virtual Meeting
END:VEVENT
END:VCALENDAR