BEGIN:VCALENDAR
VERSION:2.0
PRODID:-//Center for Reading and Writing - ECPv6.15.17.1//NONSGML v1.0//EN
CALSCALE:GREGORIAN
METHOD:PUBLISH
X-ORIGINAL-URL:https://www.ramapo.edu/crw
X-WR-CALDESC:Events for Center for Reading and Writing
REFRESH-INTERVAL;VALUE=DURATION:PT1H
X-Robots-Tag:noindex
X-PUBLISHED-TTL:PT1H
BEGIN:VTIMEZONE
TZID:America/New_York
BEGIN:DAYLIGHT
TZOFFSETFROM:-0500
TZOFFSETTO:-0400
TZNAME:EDT
DTSTART:20220313T070000
END:DAYLIGHT
BEGIN:STANDARD
TZOFFSETFROM:-0400
TZOFFSETTO:-0500
TZNAME:EST
DTSTART:20221106T060000
END:STANDARD
BEGIN:DAYLIGHT
TZOFFSETFROM:-0500
TZOFFSETTO:-0400
TZNAME:EDT
DTSTART:20230312T070000
END:DAYLIGHT
BEGIN:STANDARD
TZOFFSETFROM:-0400
TZOFFSETTO:-0500
TZNAME:EST
DTSTART:20231105T060000
END:STANDARD
BEGIN:DAYLIGHT
TZOFFSETFROM:-0500
TZOFFSETTO:-0400
TZNAME:EDT
DTSTART:20240310T070000
END:DAYLIGHT
BEGIN:STANDARD
TZOFFSETFROM:-0400
TZOFFSETTO:-0500
TZNAME:EST
DTSTART:20241103T060000
END:STANDARD
END:VTIMEZONE
BEGIN:VEVENT
DTSTART;TZID=America/New_York:20230206T011500
DTEND;TZID=America/New_York:20230206T140000
DTSTAMP:20260422T074508
CREATED:20230111T140951Z
LAST-MODIFIED:20230111T215947Z
UID:10000218-1675646100-1675692000@www.ramapo.edu
SUMMARY:College Success Strategies
DESCRIPTION:Sponsored by the Center for Reading and Writing\, this 45-minute workshop will address 5 key strategies for optimal academic performance\, from planning to using essential campus resources. Open to all students. For more information\, contact Priscilla Tovey\, ptovey@ramapo.edu \nRegister
URL:https://www.ramapo.edu/crw/event/college-success-strategies/
LOCATION:Learning Commons 101
END:VEVENT
END:VCALENDAR