BEGIN:VCALENDAR
VERSION:2.0
PRODID:-//Center for Reading and Writing - ECPv6.15.17.1//NONSGML v1.0//EN
CALSCALE:GREGORIAN
METHOD:PUBLISH
X-WR-CALNAME:Center for Reading and Writing
X-ORIGINAL-URL:https://www.ramapo.edu/crw
X-WR-CALDESC:Events for Center for Reading and Writing
REFRESH-INTERVAL;VALUE=DURATION:PT1H
X-Robots-Tag:noindex
X-PUBLISHED-TTL:PT1H
BEGIN:VTIMEZONE
TZID:America/New_York
BEGIN:DAYLIGHT
TZOFFSETFROM:-0500
TZOFFSETTO:-0400
TZNAME:EDT
DTSTART:20200308T070000
END:DAYLIGHT
BEGIN:STANDARD
TZOFFSETFROM:-0400
TZOFFSETTO:-0500
TZNAME:EST
DTSTART:20201101T060000
END:STANDARD
BEGIN:DAYLIGHT
TZOFFSETFROM:-0500
TZOFFSETTO:-0400
TZNAME:EDT
DTSTART:20210314T070000
END:DAYLIGHT
BEGIN:STANDARD
TZOFFSETFROM:-0400
TZOFFSETTO:-0500
TZNAME:EST
DTSTART:20211107T060000
END:STANDARD
BEGIN:DAYLIGHT
TZOFFSETFROM:-0500
TZOFFSETTO:-0400
TZNAME:EDT
DTSTART:20220313T070000
END:DAYLIGHT
BEGIN:STANDARD
TZOFFSETFROM:-0400
TZOFFSETTO:-0500
TZNAME:EST
DTSTART:20221106T060000
END:STANDARD
END:VTIMEZONE
BEGIN:VEVENT
DTSTART;TZID=America/New_York:20210428T113000
DTEND;TZID=America/New_York:20210428T121500
DTSTAMP:20260425T182823
CREATED:20210127T211343Z
LAST-MODIFIED:20210129T191423Z
UID:10000120-1619609400-1619612100@www.ramapo.edu
SUMMARY:Avoiding Plagiariam
DESCRIPTION:This 45-minute workshop will address how to successfully paraphrase\, summarize\, and directly quote the sources used when writing papers\, articles\, presentations\, speeches\, etc. Plagiarism in its various forms will be defined and discussed\, including Ramapo’s policy on academic integrity. Open to all students. For more information\, contact Priscilla Tovey\, ptovey@ramapo.edu. \nRegister
URL:https://www.ramapo.edu/crw/event/avoiding-plagiariam/
END:VEVENT
BEGIN:VEVENT
DTSTART;TZID=America/New_York:20210428T140000
DTEND;TZID=America/New_York:20210428T144500
DTSTAMP:20260425T182823
CREATED:20210127T154709Z
LAST-MODIFIED:20210129T191259Z
UID:10000109-1619618400-1619621100@www.ramapo.edu
SUMMARY:Study Skills to Survive the End of the Semester
DESCRIPTION:This 45-minute workshop will address study skills to help with end-of-the-semester assignments & exams\, including reading\, annotating\, and recall strategies\, time management\, taking care of your health\, and using campus resources. All students welcome.  For more information\, contact P. Tovey-Van Aulen\, ptovey@ramapo.edu.  \nRegister
URL:https://www.ramapo.edu/crw/event/study-skills-to-survive-the-end-of-the-semester/
LOCATION:Webex Virtual Meeting
END:VEVENT
END:VCALENDAR