BEGIN:VCALENDAR
VERSION:2.0
PRODID:-//Center for Reading and Writing - ECPv6.15.17.1//NONSGML v1.0//EN
CALSCALE:GREGORIAN
METHOD:PUBLISH
X-WR-CALNAME:Center for Reading and Writing
X-ORIGINAL-URL:https://www.ramapo.edu/crw
X-WR-CALDESC:Events for Center for Reading and Writing
REFRESH-INTERVAL;VALUE=DURATION:PT1H
X-Robots-Tag:noindex
X-PUBLISHED-TTL:PT1H
BEGIN:VTIMEZONE
TZID:America/New_York
BEGIN:DAYLIGHT
TZOFFSETFROM:-0500
TZOFFSETTO:-0400
TZNAME:EDT
DTSTART:20200308T070000
END:DAYLIGHT
BEGIN:STANDARD
TZOFFSETFROM:-0400
TZOFFSETTO:-0500
TZNAME:EST
DTSTART:20201101T060000
END:STANDARD
BEGIN:DAYLIGHT
TZOFFSETFROM:-0500
TZOFFSETTO:-0400
TZNAME:EDT
DTSTART:20210314T070000
END:DAYLIGHT
BEGIN:STANDARD
TZOFFSETFROM:-0400
TZOFFSETTO:-0500
TZNAME:EST
DTSTART:20211107T060000
END:STANDARD
BEGIN:DAYLIGHT
TZOFFSETFROM:-0500
TZOFFSETTO:-0400
TZNAME:EDT
DTSTART:20220313T070000
END:DAYLIGHT
BEGIN:STANDARD
TZOFFSETFROM:-0400
TZOFFSETTO:-0500
TZNAME:EST
DTSTART:20221106T060000
END:STANDARD
END:VTIMEZONE
BEGIN:VEVENT
DTSTART;TZID=America/New_York:20210322T131500
DTEND;TZID=America/New_York:20210322T140000
DTSTAMP:20260425T170246
CREATED:20210127T204628Z
LAST-MODIFIED:20210129T154231Z
UID:10000119-1616418900-1616421600@www.ramapo.edu
SUMMARY:Avoiding Plagiarism
DESCRIPTION:Learn how to successfully paraphrase\, summarize\, and directly quote the sources used when writing papers\, articles\, presentations\, speeches\, etc. This 45-minute workshop will define plagiarism in its various forms\, including Ramapo’s policy on academic integrity. Open to all students. For more information\, contact Priscilla Tovey\, ptovey@ramapo.edu. \nRegister
URL:https://www.ramapo.edu/crw/event/avoiding-plagiarism-5/
LOCATION:Webex Virtual Meeting
END:VEVENT
END:VCALENDAR