BEGIN:VCALENDAR
VERSION:2.0
PRODID:-//Center for Reading and Writing - ECPv6.15.17.1//NONSGML v1.0//EN
CALSCALE:GREGORIAN
METHOD:PUBLISH
X-ORIGINAL-URL:https://www.ramapo.edu/crw
X-WR-CALDESC:Events for Center for Reading and Writing
REFRESH-INTERVAL;VALUE=DURATION:PT1H
X-Robots-Tag:noindex
X-PUBLISHED-TTL:PT1H
BEGIN:VTIMEZONE
TZID:America/New_York
BEGIN:DAYLIGHT
TZOFFSETFROM:-0500
TZOFFSETTO:-0400
TZNAME:EDT
DTSTART:20200308T070000
END:DAYLIGHT
BEGIN:STANDARD
TZOFFSETFROM:-0400
TZOFFSETTO:-0500
TZNAME:EST
DTSTART:20201101T060000
END:STANDARD
BEGIN:DAYLIGHT
TZOFFSETFROM:-0500
TZOFFSETTO:-0400
TZNAME:EDT
DTSTART:20210314T070000
END:DAYLIGHT
BEGIN:STANDARD
TZOFFSETFROM:-0400
TZOFFSETTO:-0500
TZNAME:EST
DTSTART:20211107T060000
END:STANDARD
BEGIN:DAYLIGHT
TZOFFSETFROM:-0500
TZOFFSETTO:-0400
TZNAME:EDT
DTSTART:20220313T070000
END:DAYLIGHT
BEGIN:STANDARD
TZOFFSETFROM:-0400
TZOFFSETTO:-0500
TZNAME:EST
DTSTART:20221106T060000
END:STANDARD
END:VTIMEZONE
BEGIN:VEVENT
DTSTART;TZID=America/New_York:20210310T113000
DTEND;TZID=America/New_York:20210310T121500
DTSTAMP:20260425T170328
CREATED:20210128T152255Z
LAST-MODIFIED:20210129T173912Z
UID:10000046-1615375800-1615378500@www.ramapo.edu
SUMMARY:Improving Sentences: Avoiding Fragments\, Run-ons\, and Comma Splices
DESCRIPTION:This 45-minute workshop will address proofreading and editing sentences\, focusing on some of the most common errors: fragments\, run-ons\, and comma splices. Learn how to identify and fix these sentences\, so your writing is clear and concise. All students welcome. For more information\, contact Priscilla Tovey\, ptovey@ramapo.edu. \nRegister \n 
URL:https://www.ramapo.edu/crw/event/improving-sentences-avoiding-fragments-run-ons-and-comma-splices/
END:VEVENT
BEGIN:VEVENT
DTSTART;TZID=America/New_York:20210310T131500
DTEND;TZID=America/New_York:20210310T140000
DTSTAMP:20260425T170328
CREATED:20210127T201919Z
LAST-MODIFIED:20210129T160430Z
UID:10000117-1615382100-1615384800@www.ramapo.edu
SUMMARY:MLA Documentation Style
DESCRIPTION:This 45-minute workshop will address how to use MLA documentation style\, from page formatting to in-text citations\, source integration\, and the Works Cited page.  All students welcome. For more information\, contact Priscilla Tovey\, ptovey@ramapo.edu.  \nRegister
URL:https://www.ramapo.edu/crw/event/mla-style/
END:VEVENT
END:VCALENDAR