BEGIN:VCALENDAR
VERSION:2.0
PRODID:-//Berrie Center for Performing and Visual Arts - ECPv6.15.17.1//NONSGML v1.0//EN
CALSCALE:GREGORIAN
METHOD:PUBLISH
X-WR-CALNAME:Berrie Center for Performing and Visual Arts
X-ORIGINAL-URL:https://www.ramapo.edu/berriecenter
X-WR-CALDESC:Events for Berrie Center for Performing and Visual Arts
REFRESH-INTERVAL;VALUE=DURATION:PT1H
X-Robots-Tag:noindex
X-PUBLISHED-TTL:PT1H
BEGIN:VTIMEZONE
TZID:America/New_York
BEGIN:DAYLIGHT
TZOFFSETFROM:-0500
TZOFFSETTO:-0400
TZNAME:EDT
DTSTART:20250309T070000
END:DAYLIGHT
BEGIN:STANDARD
TZOFFSETFROM:-0400
TZOFFSETTO:-0500
TZNAME:EST
DTSTART:20251102T060000
END:STANDARD
BEGIN:DAYLIGHT
TZOFFSETFROM:-0500
TZOFFSETTO:-0400
TZNAME:EDT
DTSTART:20260308T070000
END:DAYLIGHT
BEGIN:STANDARD
TZOFFSETFROM:-0400
TZOFFSETTO:-0500
TZNAME:EST
DTSTART:20261101T060000
END:STANDARD
BEGIN:DAYLIGHT
TZOFFSETFROM:-0500
TZOFFSETTO:-0400
TZNAME:EDT
DTSTART:20270314T070000
END:DAYLIGHT
BEGIN:STANDARD
TZOFFSETFROM:-0400
TZOFFSETTO:-0500
TZNAME:EST
DTSTART:20271107T060000
END:STANDARD
END:VTIMEZONE
BEGIN:VEVENT
DTSTART;TZID=America/New_York:20260305T200000
DTEND;TZID=America/New_York:20260305T220000
DTSTAMP:20260416T222138
CREATED:20251021T164101Z
LAST-MODIFIED:20260302T200541Z
UID:10001709-1772740800-1772748000@www.ramapo.edu
SUMMARY:RCNJ Theater Presents: What the Constitution Means to Me
DESCRIPTION:Written by Heidi Schreck\nDirected by Terra Vandergaw \nThis boundary-breaking Tony-nominated play breathes new life into our Constitution and imagines how it will shape the next generation of Americans. Fifteen-year-old Heidi earned her college tuition by winning Constitutional debate competitions across the United States. In this hilarious\, hopeful and achingly human new play\, she resurrects her teenage self in order to trace the profound relationship between four generations of women and the founding document that shaped their lives. \nContent Warning: What the Constitution Means to Me contains mature themes and language\, mentions of domestic violence\, sexual assault\, and discussions of abortion and its stigmatization. \nTickets
URL:https://www.ramapo.edu/berriecenter/event/what-the-constitution-means-to-me/2026-03-05/
LOCATION:Adler Theater\, 505 Ramapo Valley Road\, Mahwah\, NJ\, United States
CATEGORIES:Berrie Center,CA
GEO:41.083947;-74.176609
X-APPLE-STRUCTURED-LOCATION;VALUE=URI;X-ADDRESS=Adler Theater 505 Ramapo Valley Road Mahwah NJ United States;X-APPLE-RADIUS=500;X-TITLE=505 Ramapo Valley Road:geo:-74.176609,41.083947
END:VEVENT
BEGIN:VEVENT
DTSTART;TZID=America/New_York:20260306T200000
DTEND;TZID=America/New_York:20260306T220000
DTSTAMP:20260416T222138
CREATED:20251021T164101Z
LAST-MODIFIED:20260302T200541Z
UID:10001710-1772827200-1772834400@www.ramapo.edu
SUMMARY:RCNJ Theater Presents: What the Constitution Means to Me
DESCRIPTION:Written by Heidi Schreck\nDirected by Terra Vandergaw \nThis boundary-breaking Tony-nominated play breathes new life into our Constitution and imagines how it will shape the next generation of Americans. Fifteen-year-old Heidi earned her college tuition by winning Constitutional debate competitions across the United States. In this hilarious\, hopeful and achingly human new play\, she resurrects her teenage self in order to trace the profound relationship between four generations of women and the founding document that shaped their lives. \nContent Warning: What the Constitution Means to Me contains mature themes and language\, mentions of domestic violence\, sexual assault\, and discussions of abortion and its stigmatization. \nTickets
URL:https://www.ramapo.edu/berriecenter/event/what-the-constitution-means-to-me/2026-03-06/
LOCATION:Adler Theater\, 505 Ramapo Valley Road\, Mahwah\, NJ\, United States
CATEGORIES:Berrie Center,CA
GEO:41.083947;-74.176609
X-APPLE-STRUCTURED-LOCATION;VALUE=URI;X-ADDRESS=Adler Theater 505 Ramapo Valley Road Mahwah NJ United States;X-APPLE-RADIUS=500;X-TITLE=505 Ramapo Valley Road:geo:-74.176609,41.083947
END:VEVENT
BEGIN:VEVENT
DTSTART;TZID=America/New_York:20260307T200000
DTEND;TZID=America/New_York:20260307T220000
DTSTAMP:20260416T222138
CREATED:20251021T164101Z
LAST-MODIFIED:20260302T200541Z
UID:10001711-1772913600-1772920800@www.ramapo.edu
SUMMARY:RCNJ Theater Presents: What the Constitution Means to Me
DESCRIPTION:Written by Heidi Schreck\nDirected by Terra Vandergaw \nThis boundary-breaking Tony-nominated play breathes new life into our Constitution and imagines how it will shape the next generation of Americans. Fifteen-year-old Heidi earned her college tuition by winning Constitutional debate competitions across the United States. In this hilarious\, hopeful and achingly human new play\, she resurrects her teenage self in order to trace the profound relationship between four generations of women and the founding document that shaped their lives. \nContent Warning: What the Constitution Means to Me contains mature themes and language\, mentions of domestic violence\, sexual assault\, and discussions of abortion and its stigmatization. \nTickets
URL:https://www.ramapo.edu/berriecenter/event/what-the-constitution-means-to-me/2026-03-07/
LOCATION:Adler Theater\, 505 Ramapo Valley Road\, Mahwah\, NJ\, United States
CATEGORIES:Berrie Center,CA
GEO:41.083947;-74.176609
X-APPLE-STRUCTURED-LOCATION;VALUE=URI;X-ADDRESS=Adler Theater 505 Ramapo Valley Road Mahwah NJ United States;X-APPLE-RADIUS=500;X-TITLE=505 Ramapo Valley Road:geo:-74.176609,41.083947
END:VEVENT
BEGIN:VEVENT
DTSTART;TZID=America/New_York:20260308T140000
DTEND;TZID=America/New_York:20260308T160000
DTSTAMP:20260416T222138
CREATED:20251021T164101Z
LAST-MODIFIED:20260302T200541Z
UID:10001712-1772978400-1772985600@www.ramapo.edu
SUMMARY:RCNJ Theater Presents: What the Constitution Means to Me
DESCRIPTION:Written by Heidi Schreck\nDirected by Terra Vandergaw \nThis boundary-breaking Tony-nominated play breathes new life into our Constitution and imagines how it will shape the next generation of Americans. Fifteen-year-old Heidi earned her college tuition by winning Constitutional debate competitions across the United States. In this hilarious\, hopeful and achingly human new play\, she resurrects her teenage self in order to trace the profound relationship between four generations of women and the founding document that shaped their lives. \nContent Warning: What the Constitution Means to Me contains mature themes and language\, mentions of domestic violence\, sexual assault\, and discussions of abortion and its stigmatization. \nTickets
URL:https://www.ramapo.edu/berriecenter/event/what-the-constitution-means-to-me/2026-03-08/
LOCATION:Adler Theater\, 505 Ramapo Valley Road\, Mahwah\, NJ\, United States
CATEGORIES:Berrie Center,CA
GEO:41.083947;-74.176609
X-APPLE-STRUCTURED-LOCATION;VALUE=URI;X-ADDRESS=Adler Theater 505 Ramapo Valley Road Mahwah NJ United States;X-APPLE-RADIUS=500;X-TITLE=505 Ramapo Valley Road:geo:-74.176609,41.083947
END:VEVENT
BEGIN:VEVENT
DTSTART;TZID=America/New_York:20260310T200000
DTEND;TZID=America/New_York:20260310T220000
DTSTAMP:20260416T222138
CREATED:20251021T164101Z
LAST-MODIFIED:20260302T200541Z
UID:10001713-1773172800-1773180000@www.ramapo.edu
SUMMARY:RCNJ Theater Presents: What the Constitution Means to Me
DESCRIPTION:Written by Heidi Schreck\nDirected by Terra Vandergaw \nThis boundary-breaking Tony-nominated play breathes new life into our Constitution and imagines how it will shape the next generation of Americans. Fifteen-year-old Heidi earned her college tuition by winning Constitutional debate competitions across the United States. In this hilarious\, hopeful and achingly human new play\, she resurrects her teenage self in order to trace the profound relationship between four generations of women and the founding document that shaped their lives. \nContent Warning: What the Constitution Means to Me contains mature themes and language\, mentions of domestic violence\, sexual assault\, and discussions of abortion and its stigmatization. \nTickets
URL:https://www.ramapo.edu/berriecenter/event/what-the-constitution-means-to-me/2026-03-10/
LOCATION:Adler Theater\, 505 Ramapo Valley Road\, Mahwah\, NJ\, United States
CATEGORIES:Berrie Center,CA
GEO:41.083947;-74.176609
X-APPLE-STRUCTURED-LOCATION;VALUE=URI;X-ADDRESS=Adler Theater 505 Ramapo Valley Road Mahwah NJ United States;X-APPLE-RADIUS=500;X-TITLE=505 Ramapo Valley Road:geo:-74.176609,41.083947
END:VEVENT
BEGIN:VEVENT
DTSTART;TZID=America/New_York:20260311T200000
DTEND;TZID=America/New_York:20260311T220000
DTSTAMP:20260416T222138
CREATED:20251021T164101Z
LAST-MODIFIED:20260302T200541Z
UID:10001714-1773259200-1773266400@www.ramapo.edu
SUMMARY:RCNJ Theater Presents: What the Constitution Means to Me
DESCRIPTION:Written by Heidi Schreck\nDirected by Terra Vandergaw \nThis boundary-breaking Tony-nominated play breathes new life into our Constitution and imagines how it will shape the next generation of Americans. Fifteen-year-old Heidi earned her college tuition by winning Constitutional debate competitions across the United States. In this hilarious\, hopeful and achingly human new play\, she resurrects her teenage self in order to trace the profound relationship between four generations of women and the founding document that shaped their lives. \nContent Warning: What the Constitution Means to Me contains mature themes and language\, mentions of domestic violence\, sexual assault\, and discussions of abortion and its stigmatization. \nTickets
URL:https://www.ramapo.edu/berriecenter/event/what-the-constitution-means-to-me/2026-03-11/
LOCATION:Adler Theater\, 505 Ramapo Valley Road\, Mahwah\, NJ\, United States
CATEGORIES:Berrie Center,CA
GEO:41.083947;-74.176609
X-APPLE-STRUCTURED-LOCATION;VALUE=URI;X-ADDRESS=Adler Theater 505 Ramapo Valley Road Mahwah NJ United States;X-APPLE-RADIUS=500;X-TITLE=505 Ramapo Valley Road:geo:-74.176609,41.083947
END:VEVENT
END:VCALENDAR