BEGIN:VCALENDAR
VERSION:2.0
PRODID:-//Berrie Center for Performing and Visual Arts - ECPv6.15.17.1//NONSGML v1.0//EN
CALSCALE:GREGORIAN
METHOD:PUBLISH
X-WR-CALNAME:Berrie Center for Performing and Visual Arts
X-ORIGINAL-URL:https://www.ramapo.edu/berriecenter
X-WR-CALDESC:Events for Berrie Center for Performing and Visual Arts
REFRESH-INTERVAL;VALUE=DURATION:PT1H
X-Robots-Tag:noindex
X-PUBLISHED-TTL:PT1H
BEGIN:VTIMEZONE
TZID:America/New_York
BEGIN:DAYLIGHT
TZOFFSETFROM:-0500
TZOFFSETTO:-0400
TZNAME:EDT
DTSTART:20240310T070000
END:DAYLIGHT
BEGIN:STANDARD
TZOFFSETFROM:-0400
TZOFFSETTO:-0500
TZNAME:EST
DTSTART:20241103T060000
END:STANDARD
BEGIN:DAYLIGHT
TZOFFSETFROM:-0500
TZOFFSETTO:-0400
TZNAME:EDT
DTSTART:20250309T070000
END:DAYLIGHT
BEGIN:STANDARD
TZOFFSETFROM:-0400
TZOFFSETTO:-0500
TZNAME:EST
DTSTART:20251102T060000
END:STANDARD
BEGIN:DAYLIGHT
TZOFFSETFROM:-0500
TZOFFSETTO:-0400
TZNAME:EDT
DTSTART:20260308T070000
END:DAYLIGHT
BEGIN:STANDARD
TZOFFSETFROM:-0400
TZOFFSETTO:-0500
TZNAME:EST
DTSTART:20261101T060000
END:STANDARD
END:VTIMEZONE
BEGIN:VEVENT
DTSTART;TZID=America/New_York:20250501T190000
DTEND;TZID=America/New_York:20250501T213000
DTSTAMP:20260421T182256
CREATED:20250306T224505Z
LAST-MODIFIED:20250422T191537Z
UID:10001681-1746126000-1746135000@www.ramapo.edu
SUMMARY:5th Annual Animation & VFX Conference
DESCRIPTION:7-8:30pm Industry Experts Panel $20 General Admission\, $10 Students 18 Years & Under \nDon’t miss your chance to meet animators and VFX industry experts including Pilar Newton\, Animator- Pilartoons & Cartoon Network. Get a behind-the-scenes peek at how films\, commercials and artwork are constructed via computer graphics and cutting-edge animation practices during our Industry Experts Panel. \nPurchase Tickets \n8:30-9:30 pm Alumni Networking Reception $10 \nFollowing this panel there will be a special ticketed reception with food and refreshments for those who wish to stay and network with our panelists. \nPurchase Tickets
URL:https://www.ramapo.edu/berriecenter/event/2025-animation-vfx-conference/
LOCATION:Sharp Theater\, Berrie Center for the Arts\, 505 Ramapo Valley Road\, Mahwah\, NJ\, 07430\, United States
CATEGORIES:Berrie Center,CA
ATTACH;FMTTYPE=image/jpeg:https://www.ramapo.edu/berriecenter/wp-content/uploads/sites/152/2025/03/2025RCNJ-Animation-Conf-LandscapeR2-2.jpg
GEO:41.083947;-74.176609
X-APPLE-STRUCTURED-LOCATION;VALUE=URI;X-ADDRESS=Sharp Theater Berrie Center for the Arts 505 Ramapo Valley Road Mahwah NJ 07430 United States;X-APPLE-RADIUS=500;X-TITLE=Berrie Center for the Arts\, 505 Ramapo Valley Road:geo:-74.176609,41.083947
END:VEVENT
END:VCALENDAR