BEGIN:VCALENDAR
VERSION:2.0
PRODID:-//Berrie Center for Performing and Visual Arts - ECPv6.15.17.1//NONSGML v1.0//EN
CALSCALE:GREGORIAN
METHOD:PUBLISH
X-WR-CALNAME:Berrie Center for Performing and Visual Arts
X-ORIGINAL-URL:https://www.ramapo.edu/berriecenter
X-WR-CALDESC:Events for Berrie Center for Performing and Visual Arts
REFRESH-INTERVAL;VALUE=DURATION:PT1H
X-Robots-Tag:noindex
X-PUBLISHED-TTL:PT1H
BEGIN:VTIMEZONE
TZID:America/New_York
BEGIN:DAYLIGHT
TZOFFSETFROM:-0500
TZOFFSETTO:-0400
TZNAME:EDT
DTSTART:20190310T070000
END:DAYLIGHT
BEGIN:STANDARD
TZOFFSETFROM:-0400
TZOFFSETTO:-0500
TZNAME:EST
DTSTART:20191103T060000
END:STANDARD
BEGIN:DAYLIGHT
TZOFFSETFROM:-0500
TZOFFSETTO:-0400
TZNAME:EDT
DTSTART:20200308T070000
END:DAYLIGHT
BEGIN:STANDARD
TZOFFSETFROM:-0400
TZOFFSETTO:-0500
TZNAME:EST
DTSTART:20201101T060000
END:STANDARD
BEGIN:DAYLIGHT
TZOFFSETFROM:-0500
TZOFFSETTO:-0400
TZNAME:EDT
DTSTART:20210314T070000
END:DAYLIGHT
BEGIN:STANDARD
TZOFFSETFROM:-0400
TZOFFSETTO:-0500
TZNAME:EST
DTSTART:20211107T060000
END:STANDARD
END:VTIMEZONE
BEGIN:VEVENT
DTSTART;TZID=America/New_York:20200307T200000
DTEND;TZID=America/New_York:20200307T220000
DTSTAMP:20260420T141455
CREATED:20191007T141330Z
LAST-MODIFIED:20191107T153339Z
UID:10000311-1583611200-1583618400@www.ramapo.edu
SUMMARY:Kittel & Co.
DESCRIPTION:Kittel & Co. inhabits the space between classical and acoustic roots\, Celtic and bluegrass aesthetics\, folk and jazz sensibilities. The quartet includes award-winning fiddler Jeremy Kittel with his outstanding band on mandolin\, bass and guitar. \nTickets: $32/29/26 Children Under 17: $18\n Ramapo Faculty/Staff: $20* Ramapo Students: $8* \n*Must present Ramapo ID at Box Office. Ticket limits apply. \nALL TICKET SALES ARE FINAL. NO EXCHANGES. NO RETURNS.
URL:https://www.ramapo.edu/berriecenter/event/kittel-co/
LOCATION:Sharp Theater\, Berrie Center for the Arts\, 505 Ramapo Valley Road\, Mahwah\, NJ\, 07430\, United States
CATEGORIES:Berrie Center
ATTACH;FMTTYPE=image/jpeg:https://www.ramapo.edu/berriecenter/wp-content/uploads/sites/152/2019/10/kittel_350x350.jpg
GEO:41.083947;-74.176609
X-APPLE-STRUCTURED-LOCATION;VALUE=URI;X-ADDRESS=Sharp Theater Berrie Center for the Arts 505 Ramapo Valley Road Mahwah NJ 07430 United States;X-APPLE-RADIUS=500;X-TITLE=Berrie Center for the Arts\, 505 Ramapo Valley Road:geo:-74.176609,41.083947
END:VEVENT
END:VCALENDAR