BEGIN:VCALENDAR
VERSION:2.0
PRODID:-//Berrie Center for Performing and Visual Arts - ECPv6.15.17.1//NONSGML v1.0//EN
CALSCALE:GREGORIAN
METHOD:PUBLISH
X-ORIGINAL-URL:https://www.ramapo.edu/berriecenter
X-WR-CALDESC:Events for Berrie Center for Performing and Visual Arts
REFRESH-INTERVAL;VALUE=DURATION:PT1H
X-Robots-Tag:noindex
X-PUBLISHED-TTL:PT1H
BEGIN:VTIMEZONE
TZID:America/New_York
BEGIN:DAYLIGHT
TZOFFSETFROM:-0500
TZOFFSETTO:-0400
TZNAME:EDT
DTSTART:20160313T070000
END:DAYLIGHT
BEGIN:STANDARD
TZOFFSETFROM:-0400
TZOFFSETTO:-0500
TZNAME:EST
DTSTART:20161106T060000
END:STANDARD
BEGIN:DAYLIGHT
TZOFFSETFROM:-0500
TZOFFSETTO:-0400
TZNAME:EDT
DTSTART:20170312T070000
END:DAYLIGHT
BEGIN:STANDARD
TZOFFSETFROM:-0400
TZOFFSETTO:-0500
TZNAME:EST
DTSTART:20171105T060000
END:STANDARD
BEGIN:DAYLIGHT
TZOFFSETFROM:-0500
TZOFFSETTO:-0400
TZNAME:EDT
DTSTART:20180311T070000
END:DAYLIGHT
BEGIN:STANDARD
TZOFFSETFROM:-0400
TZOFFSETTO:-0500
TZNAME:EST
DTSTART:20181104T060000
END:STANDARD
END:VTIMEZONE
BEGIN:VEVENT
DTSTART;TZID=America/New_York:20171202T200000
DTEND;TZID=America/New_York:20171202T220000
DTSTAMP:20260422T051711
CREATED:20170810T172310Z
LAST-MODIFIED:20171120T202430Z
UID:10000065-1512244800-1512252000@www.ramapo.edu
SUMMARY:Married to Broadway
DESCRIPTION:Ron Sharpe and Barbra Russell first met in Les Miserables playing young romantic leads of Marius and Cosette.  After being married on stage hundreds of times\, they did it for real.  They are still married to each other and to the great Broadway musicals that brought them together.  In Married to Broadway\, Ron and Barbra\, along with friends\, share their love of Broadway musicals by performing the big show-stopping numbers that are audience favorites around the world.  The show also features several famous holiday classics. \nTickets: $40/36/30; Children under 17: $20\nAll ticket sales are final.  No exchanges. No returns.
URL:https://www.ramapo.edu/berriecenter/event/married-to-broadway/
LOCATION:Sharp Theater\, Berrie Center for the Arts\, 505 Ramapo Valley Road\, Mahwah\, NJ\, 07430\, United States
CATEGORIES:Berrie Center
ATTACH;FMTTYPE=image/jpeg:https://www.ramapo.edu/berriecenter/wp-content/uploads/sites/152/2017/08/16177581_1842962272639119_7382532455287808546_o.jpg
GEO:41.083947;-74.176609
X-APPLE-STRUCTURED-LOCATION;VALUE=URI;X-ADDRESS=Sharp Theater Berrie Center for the Arts 505 Ramapo Valley Road Mahwah NJ 07430 United States;X-APPLE-RADIUS=500;X-TITLE=Berrie Center for the Arts\, 505 Ramapo Valley Road:geo:-74.176609,41.083947
END:VEVENT
END:VCALENDAR