BEGIN:VCALENDAR
VERSION:2.0
PRODID:-//Berrie Center for Performing and Visual Arts - ECPv6.15.17.1//NONSGML v1.0//EN
CALSCALE:GREGORIAN
METHOD:PUBLISH
X-WR-CALNAME:Berrie Center for Performing and Visual Arts
X-ORIGINAL-URL:https://www.ramapo.edu/berriecenter
X-WR-CALDESC:Events for Berrie Center for Performing and Visual Arts
REFRESH-INTERVAL;VALUE=DURATION:PT1H
X-Robots-Tag:noindex
X-PUBLISHED-TTL:PT1H
BEGIN:VTIMEZONE
TZID:America/New_York
BEGIN:DAYLIGHT
TZOFFSETFROM:-0500
TZOFFSETTO:-0400
TZNAME:EDT
DTSTART:20190310T070000
END:DAYLIGHT
BEGIN:STANDARD
TZOFFSETFROM:-0400
TZOFFSETTO:-0500
TZNAME:EST
DTSTART:20191103T060000
END:STANDARD
BEGIN:DAYLIGHT
TZOFFSETFROM:-0500
TZOFFSETTO:-0400
TZNAME:EDT
DTSTART:20200308T070000
END:DAYLIGHT
BEGIN:STANDARD
TZOFFSETFROM:-0400
TZOFFSETTO:-0500
TZNAME:EST
DTSTART:20201101T060000
END:STANDARD
BEGIN:DAYLIGHT
TZOFFSETFROM:-0500
TZOFFSETTO:-0400
TZNAME:EDT
DTSTART:20210314T070000
END:DAYLIGHT
BEGIN:STANDARD
TZOFFSETFROM:-0400
TZOFFSETTO:-0500
TZNAME:EST
DTSTART:20211107T060000
END:STANDARD
END:VTIMEZONE
BEGIN:VEVENT
DTSTART;TZID=America/New_York:20200307T200000
DTEND;TZID=America/New_York:20200307T220000
DTSTAMP:20260420T124324
CREATED:20191007T141330Z
LAST-MODIFIED:20191107T153339Z
UID:10000311-1583611200-1583618400@www.ramapo.edu
SUMMARY:Kittel & Co.
DESCRIPTION:Kittel & Co. inhabits the space between classical and acoustic roots\, Celtic and bluegrass aesthetics\, folk and jazz sensibilities. The quartet includes award-winning fiddler Jeremy Kittel with his outstanding band on mandolin\, bass and guitar. \nTickets: $32/29/26 Children Under 17: $18\n Ramapo Faculty/Staff: $20* Ramapo Students: $8* \n*Must present Ramapo ID at Box Office. Ticket limits apply. \nALL TICKET SALES ARE FINAL. NO EXCHANGES. NO RETURNS.
URL:https://www.ramapo.edu/berriecenter/event/kittel-co/
LOCATION:Sharp Theater\, Berrie Center for the Arts\, 505 Ramapo Valley Road\, Mahwah\, NJ\, 07430\, United States
CATEGORIES:Berrie Center
ATTACH;FMTTYPE=image/jpeg:https://www.ramapo.edu/berriecenter/wp-content/uploads/sites/152/2019/10/kittel_350x350.jpg
GEO:41.083947;-74.176609
X-APPLE-STRUCTURED-LOCATION;VALUE=URI;X-ADDRESS=Sharp Theater Berrie Center for the Arts 505 Ramapo Valley Road Mahwah NJ 07430 United States;X-APPLE-RADIUS=500;X-TITLE=Berrie Center for the Arts\, 505 Ramapo Valley Road:geo:-74.176609,41.083947
END:VEVENT
BEGIN:VEVENT
DTSTART;TZID=America/New_York:20200318T100000
DTEND;TZID=America/New_York:20200318T110000
DTSTAMP:20260420T124324
CREATED:20190826T174914Z
LAST-MODIFIED:20200312T135507Z
UID:10000290-1584525600-1584529200@www.ramapo.edu
SUMMARY:CANCELED - Ellis Island: Gateway to a Dream
DESCRIPTION:This musical celebration of the multicultural foundations of our nation return to the Berrie Center\, highlighting the courage and challenges of immigrants as they adjusted to the customs and language of their new country. \nGrades: 3-8  Links: Immigration Studies\, Social Studies\, Multicultural Studies\, Music\, Language Arts\, Theater \nSOLD OUT 
URL:https://www.ramapo.edu/berriecenter/event/ellis-island-gateway-to-a-dream-5/
LOCATION:Sharp Theater\, Berrie Center for the Arts\, 505 Ramapo Valley Road\, Mahwah\, NJ\, 07430\, United States
CATEGORIES:Berrie Center
ATTACH;FMTTYPE=image/jpeg:https://www.ramapo.edu/berriecenter/wp-content/uploads/sites/152/2019/08/EllisIsland2019March4.jpg
GEO:41.083947;-74.176609
X-APPLE-STRUCTURED-LOCATION;VALUE=URI;X-ADDRESS=Sharp Theater Berrie Center for the Arts 505 Ramapo Valley Road Mahwah NJ 07430 United States;X-APPLE-RADIUS=500;X-TITLE=Berrie Center for the Arts\, 505 Ramapo Valley Road:geo:-74.176609,41.083947
END:VEVENT
BEGIN:VEVENT
DTSTART;TZID=America/New_York:20200318T114500
DTEND;TZID=America/New_York:20200318T124500
DTSTAMP:20260420T124324
CREATED:20190826T181358Z
LAST-MODIFIED:20200312T135512Z
UID:10000292-1584531900-1584535500@www.ramapo.edu
SUMMARY:CANCELED - Ellis Island: Gateway to a Dream
DESCRIPTION:This musical celebration of the multicultural foundations of our nation return to the Berrie Center\, highlighting the courage and challenges of immigrants as they adjusted to the customs and language of their new country. \nGrades: 3-8  Links: Immigration Studies\, Social Studies\, Multicultural Studies\, Music\, Language Arts\, Theater \nSOLD OUT 
URL:https://www.ramapo.edu/berriecenter/event/ellis-island-gateway-to-a-dream-6/
LOCATION:Sharp Theater\, Berrie Center for the Arts\, 505 Ramapo Valley Road\, Mahwah\, NJ\, 07430\, United States
CATEGORIES:Berrie Center
ATTACH;FMTTYPE=image/jpeg:https://www.ramapo.edu/berriecenter/wp-content/uploads/sites/152/2019/08/EllisIsland2019March4.jpg
GEO:41.083947;-74.176609
X-APPLE-STRUCTURED-LOCATION;VALUE=URI;X-ADDRESS=Sharp Theater Berrie Center for the Arts 505 Ramapo Valley Road Mahwah NJ 07430 United States;X-APPLE-RADIUS=500;X-TITLE=Berrie Center for the Arts\, 505 Ramapo Valley Road:geo:-74.176609,41.083947
END:VEVENT
BEGIN:VEVENT
DTSTART;TZID=America/New_York:20200328T200000
DTEND;TZID=America/New_York:20200328T220000
DTSTAMP:20260420T124324
CREATED:20191107T153553Z
LAST-MODIFIED:20200312T135518Z
UID:10000315-1585425600-1585432800@www.ramapo.edu
SUMMARY:CANCELED - Mack Brandon’s Gospel Explosion
DESCRIPTION:Share the joy of gospel music as Mack Brandon brings his fabulous choir back to the Berrie Center for another unforgettable interactive experience. A music professor at Ramapo College for the past 20 years\, Brandon was the pianist and/or musical director for Ben E. King\, The Drifters\, Average White Band\, and the Supremes. Brandon’s choir features the best voices from around the state\, including Ramapo College students. \nTickets: $30/27/24 \nRamapo Faculty/Staff: $20* Ramapo Students: $8* \n*Must present Ramapo ID at Box Office. Ticket limits apply. \nALL TICKET SALES ARE FINAL. NO EXCHANGES. NO RETURNS.
URL:https://www.ramapo.edu/berriecenter/event/mack-brandons-gospel-explosion-6/
LOCATION:Sharp Theater\, Berrie Center for the Arts\, 505 Ramapo Valley Road\, Mahwah\, NJ\, 07430\, United States
CATEGORIES:Berrie Center
ATTACH;FMTTYPE=image/jpeg:https://www.ramapo.edu/berriecenter/wp-content/uploads/sites/152/2017/09/mack-1.jpg
GEO:41.083947;-74.176609
X-APPLE-STRUCTURED-LOCATION;VALUE=URI;X-ADDRESS=Sharp Theater Berrie Center for the Arts 505 Ramapo Valley Road Mahwah NJ 07430 United States;X-APPLE-RADIUS=500;X-TITLE=Berrie Center for the Arts\, 505 Ramapo Valley Road:geo:-74.176609,41.083947
END:VEVENT
END:VCALENDAR