BEGIN:VCALENDAR
VERSION:2.0
PRODID:-//Berrie Center for Performing and Visual Arts - ECPv6.15.17.1//NONSGML v1.0//EN
CALSCALE:GREGORIAN
METHOD:PUBLISH
X-ORIGINAL-URL:https://www.ramapo.edu/berriecenter
X-WR-CALDESC:Events for Berrie Center for Performing and Visual Arts
REFRESH-INTERVAL;VALUE=DURATION:PT1H
X-Robots-Tag:noindex
X-PUBLISHED-TTL:PT1H
BEGIN:VTIMEZONE
TZID:America/New_York
BEGIN:DAYLIGHT
TZOFFSETFROM:-0500
TZOFFSETTO:-0400
TZNAME:EDT
DTSTART:20220313T070000
END:DAYLIGHT
BEGIN:STANDARD
TZOFFSETFROM:-0400
TZOFFSETTO:-0500
TZNAME:EST
DTSTART:20221106T060000
END:STANDARD
BEGIN:DAYLIGHT
TZOFFSETFROM:-0500
TZOFFSETTO:-0400
TZNAME:EDT
DTSTART:20230312T070000
END:DAYLIGHT
BEGIN:STANDARD
TZOFFSETFROM:-0400
TZOFFSETTO:-0500
TZNAME:EST
DTSTART:20231105T060000
END:STANDARD
BEGIN:DAYLIGHT
TZOFFSETFROM:-0500
TZOFFSETTO:-0400
TZNAME:EDT
DTSTART:20240310T070000
END:DAYLIGHT
BEGIN:STANDARD
TZOFFSETFROM:-0400
TZOFFSETTO:-0500
TZNAME:EST
DTSTART:20241103T060000
END:STANDARD
END:VTIMEZONE
BEGIN:VEVENT
DTSTART;VALUE=DATE:20230217
DTEND;VALUE=DATE:20230405
DTSTAMP:20260420T064336
CREATED:20260109T214731Z
LAST-MODIFIED:20260109T214731Z
UID:10001735-1676592000-1680652799@www.ramapo.edu
SUMMARY:From Alchemy to Numinosity
DESCRIPTION:An unusual group exhibition exploring notions of alchemy and numinosity. \nFeaturing works by Juan Alsar\, Emery Blagdon\, Benoit\, gwen charles\, Victor Davson\, Florine Démosthène\, Michael Dominick\, Edouard Duval-Carrié\, LaFortune Felix\, Sancilus Ishmael\, Edger Jean-Louis\, Serge Jolimeau\, Jean Baptiste Jean Joseph\, Josh Knoblick\, Ann LePore\, Julie Nagle\, Philomé Obin\, Antoine Oleyant\, André Pierre\, Roland Rockville\, Jon Serl\, Jackie Skrzynski\, and Lydia Viscardi. \nOn view February 17 – April 4 in the Kresge and Pascal Galleries. \nFeatured Image: Julie Nagle\, Astrolabe\, 2016\, brass\, semi-precious stones. \n 
URL:https://www.ramapo.edu/berriecenter/event/from-alchemy-to-numinosity/
LOCATION:Berrie Center
CATEGORIES:Art Galleries,Berrie Center,Kresge & Pascal Galleries
ATTACH;FMTTYPE=image/jpeg:https://www.ramapo.edu/berriecenter/wp-content/uploads/sites/152/2026/01/nagle.jpeg
END:VEVENT
BEGIN:VEVENT
DTSTART;TZID=America/New_York:20230218T200000
DTEND;TZID=America/New_York:20230218T220000
DTSTAMP:20260420T064336
CREATED:20220822T133304Z
LAST-MODIFIED:20230203T193325Z
UID:10001184-1676750400-1676757600@www.ramapo.edu
SUMMARY:Annual Les Paul Concert featuring Zoë Keating
DESCRIPTION:Zoë is a one-woman orchestra. She uses a cello and a foot-controlled laptop to record layer upon layer of cello\, to create lush\, beautiful and other worldly music. Increasingly considered a role model for DIY artists\, Zoë’s self-released albums have sold over 35\,000 copies and she has amassed an incredible 1.3 million twitter followers.  \nKeating also composes for TV\, theater\, film and dance. She co-composed\, along with Jeff Russo\, the score for the HBO movie “Oslo”\, which earned them an Emmy Nomination in 2021 for Outstanding Music for a Television Movie. In addition to her recordings\, Keating performs to rapt audiences around the world. Each performance is unique as she spontaneously improvises around her works\, demonstrates how she makes them and tells the stories behind each piece.  \nStay for a post-performance conversation with the artist! \nAdults:  $35/32/25   Children under 17: $18   RCNJ Faculty/Staff/Retirees: $20*  RCNJ Students: $ 8* \n*Ticket limits apply. In order to receive the RCNJ Faculty/Staff/Retiree or RCNJ Student Discount\, you MUST come to the Box Office to purchase your ticket.  \n  \nTo purchase wheelchair accessible seating or for questions regarding alternative formats\, please contact the Box Office at (201) 684-7844 \n  \nClick Here to Purchase Tickets \n \n 
URL:https://www.ramapo.edu/berriecenter/event/annual-les-paul-concert-featuring-zoe-keating/
LOCATION:Sharp Theater\, Berrie Center for the Arts\, 505 Ramapo Valley Road\, Mahwah\, NJ\, 07430\, United States
GEO:41.083947;-74.176609
X-APPLE-STRUCTURED-LOCATION;VALUE=URI;X-ADDRESS=Sharp Theater Berrie Center for the Arts 505 Ramapo Valley Road Mahwah NJ 07430 United States;X-APPLE-RADIUS=500;X-TITLE=Berrie Center for the Arts\, 505 Ramapo Valley Road:geo:-74.176609,41.083947
END:VEVENT
END:VCALENDAR