BEGIN:VCALENDAR
VERSION:2.0
PRODID:-//Berrie Center for Performing and Visual Arts - ECPv6.15.17.1//NONSGML v1.0//EN
CALSCALE:GREGORIAN
METHOD:PUBLISH
X-WR-CALNAME:Berrie Center for Performing and Visual Arts
X-ORIGINAL-URL:https://www.ramapo.edu/berriecenter
X-WR-CALDESC:Events for Berrie Center for Performing and Visual Arts
REFRESH-INTERVAL;VALUE=DURATION:PT1H
X-Robots-Tag:noindex
X-PUBLISHED-TTL:PT1H
BEGIN:VTIMEZONE
TZID:America/New_York
BEGIN:DAYLIGHT
TZOFFSETFROM:-0500
TZOFFSETTO:-0400
TZNAME:EDT
DTSTART:20210314T070000
END:DAYLIGHT
BEGIN:STANDARD
TZOFFSETFROM:-0400
TZOFFSETTO:-0500
TZNAME:EST
DTSTART:20211107T060000
END:STANDARD
BEGIN:DAYLIGHT
TZOFFSETFROM:-0500
TZOFFSETTO:-0400
TZNAME:EDT
DTSTART:20220313T070000
END:DAYLIGHT
BEGIN:STANDARD
TZOFFSETFROM:-0400
TZOFFSETTO:-0500
TZNAME:EST
DTSTART:20221106T060000
END:STANDARD
BEGIN:DAYLIGHT
TZOFFSETFROM:-0500
TZOFFSETTO:-0400
TZNAME:EDT
DTSTART:20230312T070000
END:DAYLIGHT
BEGIN:STANDARD
TZOFFSETFROM:-0400
TZOFFSETTO:-0500
TZNAME:EST
DTSTART:20231105T060000
END:STANDARD
END:VTIMEZONE
BEGIN:VEVENT
DTSTART;TZID=America/New_York:20220924T200000
DTEND;TZID=America/New_York:20220924T220000
DTSTAMP:20260420T063437
CREATED:20220711T145108Z
LAST-MODIFIED:20220916T134744Z
UID:10001164-1664049600-1664056800@www.ramapo.edu
SUMMARY:Tertulia! featuring Desarraigo Y Esperanza and Mate Amargo
DESCRIPTION:Tertulia! featuring Desarraigo Y Esperanza and Mate Amargo \nThis dynamic evening begins with the screening of filmmaker Marta Bautis’ documentary Desarraigo Y Esperanza (Displacement and Hope) which tells the true story of a young Latin American man\, Hermes\, who leaves his village in Mexico for the U.S. and is adopted by Father Fabian Arias\, now the guardian of dozens of minors who entered the US without documents. Following the film\, Mate Amargo\, will take the stage with their traditional Argentinian folk music accompanied by Tango dancers. \n \nJoin us for a pre-show conversation with filmmaker Marta Bautis and Fr. Arias at 7:00pm in the Adler Theater. \nNow Discounted: Adults: $15  Children under 17: $8  RCNJ Faculty/Staff/Retirees: $10* RCNJ Students: Free* \n*ticket limits apply \nClick Here to Purchase Tickets
URL:https://www.ramapo.edu/berriecenter/event/tertulia-featuring-desarraigo-y-esperanza-and-mate-amargo/
LOCATION:Sharp Theater\, Berrie Center for the Arts\, 505 Ramapo Valley Road\, Mahwah\, NJ\, 07430\, United States
GEO:41.083947;-74.176609
X-APPLE-STRUCTURED-LOCATION;VALUE=URI;X-ADDRESS=Sharp Theater Berrie Center for the Arts 505 Ramapo Valley Road Mahwah NJ 07430 United States;X-APPLE-RADIUS=500;X-TITLE=Berrie Center for the Arts\, 505 Ramapo Valley Road:geo:-74.176609,41.083947
END:VEVENT
END:VCALENDAR