BEGIN:VCALENDAR
VERSION:2.0
PRODID:-//Berrie Center for Performing and Visual Arts - ECPv6.15.17.1//NONSGML v1.0//EN
CALSCALE:GREGORIAN
METHOD:PUBLISH
X-ORIGINAL-URL:https://www.ramapo.edu/berriecenter
X-WR-CALDESC:Events for Berrie Center for Performing and Visual Arts
REFRESH-INTERVAL;VALUE=DURATION:PT1H
X-Robots-Tag:noindex
X-PUBLISHED-TTL:PT1H
BEGIN:VTIMEZONE
TZID:America/New_York
BEGIN:DAYLIGHT
TZOFFSETFROM:-0500
TZOFFSETTO:-0400
TZNAME:EDT
DTSTART:20210314T070000
END:DAYLIGHT
BEGIN:STANDARD
TZOFFSETFROM:-0400
TZOFFSETTO:-0500
TZNAME:EST
DTSTART:20211107T060000
END:STANDARD
BEGIN:DAYLIGHT
TZOFFSETFROM:-0500
TZOFFSETTO:-0400
TZNAME:EDT
DTSTART:20220313T070000
END:DAYLIGHT
BEGIN:STANDARD
TZOFFSETFROM:-0400
TZOFFSETTO:-0500
TZNAME:EST
DTSTART:20221106T060000
END:STANDARD
BEGIN:DAYLIGHT
TZOFFSETFROM:-0500
TZOFFSETTO:-0400
TZNAME:EDT
DTSTART:20230312T070000
END:DAYLIGHT
BEGIN:STANDARD
TZOFFSETFROM:-0400
TZOFFSETTO:-0500
TZNAME:EST
DTSTART:20231105T060000
END:STANDARD
END:VTIMEZONE
BEGIN:VEVENT
DTSTART;TZID=America/New_York:20220831T203000
DTEND;TZID=America/New_York:20220831T223000
DTSTAMP:20260420T064336
CREATED:20220622T195440Z
LAST-MODIFIED:20220802T175534Z
UID:10001163-1661977800-1661985000@www.ramapo.edu
SUMMARY:Jonathan Burns
DESCRIPTION:Born with the gifts of flexibility\, curiosity\, and goofiness\, Jonathan Burns combines these unique talents to astonish audiences around the globe. Jonathan wow’d the AMERICA’S GOT TALENT audiences and will have you crying with laughter! This event is co-sponsored with RCNJ’s Center for Student Involvement. \n \nFREE\, but tickets are required.  \nReserve Tickets Here! \nRCNJ Students- Get your ticket at the Center for Student Involvement. Do not reserve through this site.
URL:https://www.ramapo.edu/berriecenter/event/jonathan-burns/
LOCATION:Sharp Theater\, Berrie Center for the Arts\, 505 Ramapo Valley Road\, Mahwah\, NJ\, 07430\, United States
GEO:41.083947;-74.176609
X-APPLE-STRUCTURED-LOCATION;VALUE=URI;X-ADDRESS=Sharp Theater Berrie Center for the Arts 505 Ramapo Valley Road Mahwah NJ 07430 United States;X-APPLE-RADIUS=500;X-TITLE=Berrie Center for the Arts\, 505 Ramapo Valley Road:geo:-74.176609,41.083947
END:VEVENT
END:VCALENDAR