BEGIN:VCALENDAR
VERSION:2.0
PRODID:-//Academic Calendars - ECPv6.15.17.1//NONSGML v1.0//EN
CALSCALE:GREGORIAN
METHOD:PUBLISH
X-ORIGINAL-URL:https://www.ramapo.edu/academic-calendars
X-WR-CALDESC:Events for Academic Calendars
REFRESH-INTERVAL;VALUE=DURATION:PT1H
X-Robots-Tag:noindex
X-PUBLISHED-TTL:PT1H
BEGIN:VTIMEZONE
TZID:America/New_York
BEGIN:DAYLIGHT
TZOFFSETFROM:-0500
TZOFFSETTO:-0400
TZNAME:EDT
DTSTART:20200308T070000
END:DAYLIGHT
BEGIN:STANDARD
TZOFFSETFROM:-0400
TZOFFSETTO:-0500
TZNAME:EST
DTSTART:20201101T060000
END:STANDARD
BEGIN:DAYLIGHT
TZOFFSETFROM:-0500
TZOFFSETTO:-0400
TZNAME:EDT
DTSTART:20210314T070000
END:DAYLIGHT
BEGIN:STANDARD
TZOFFSETFROM:-0400
TZOFFSETTO:-0500
TZNAME:EST
DTSTART:20211107T060000
END:STANDARD
BEGIN:DAYLIGHT
TZOFFSETFROM:-0500
TZOFFSETTO:-0400
TZNAME:EDT
DTSTART:20220313T070000
END:DAYLIGHT
BEGIN:STANDARD
TZOFFSETFROM:-0400
TZOFFSETTO:-0500
TZNAME:EST
DTSTART:20221106T060000
END:STANDARD
END:VTIMEZONE
BEGIN:VEVENT
DTSTART;TZID=America/New_York:20210520T080000
DTEND;TZID=America/New_York:20210520T170000
DTSTAMP:20260420T052325
CREATED:20200811T232527Z
LAST-MODIFIED:20200811T232527Z
UID:10000238-1621497600-1621530000@www.ramapo.edu
SUMMARY:Summer Session I -- Last Day to drop at 50% refund and request Pass/Fail grade option
DESCRIPTION:
URL:https://www.ramapo.edu/academic-calendars/event/summer-session-i-last-day-to-drop-at-50-refund-and-request-pass-fail-grade-option-4/
LOCATION:Ramapo College\, 505 Ramapo Valley Road\, Ramapo College of NJ\, Mahwah\, NJ\, 07430\, United States
END:VEVENT
BEGIN:VEVENT
DTSTART;TZID=America/New_York:20210519T080000
DTEND;TZID=America/New_York:20210519T170000
DTSTAMP:20260420T052325
CREATED:20200811T232419Z
LAST-MODIFIED:20200811T232419Z
UID:10000236-1621411200-1621443600@www.ramapo.edu
SUMMARY:Mini Session I -- Last Day to drop at 50% refund and request Pass/Fail grade option
DESCRIPTION:
URL:https://www.ramapo.edu/academic-calendars/event/mini-session-i-last-day-to-drop-at-50-refund-and-request-pass-fail-grade-option-4/
LOCATION:Ramapo College\, 505 Ramapo Valley Road\, Ramapo College of NJ\, Mahwah\, NJ\, 07430\, United States
END:VEVENT
BEGIN:VEVENT
DTSTART;TZID=America/New_York:20210517T090000
DTEND;TZID=America/New_York:20210520T170000
DTSTAMP:20260420T052325
CREATED:20210311T142205Z
LAST-MODIFIED:20210311T142205Z
UID:10000075-1621242000-1621530000@www.ramapo.edu
SUMMARY:Undergraduate Commencement Ceremonies
DESCRIPTION:Celebrating the Class of 2021\nTwo events will take place at 9 a.m. and 1:30 p.m.
URL:https://www.ramapo.edu/academic-calendars/event/undergraduate-commencement-ceremonies/
LOCATION:Ramapo College\, 505 Ramapo Valley Road\, Ramapo College of NJ\, Mahwah\, NJ\, 07430\, United States
END:VEVENT
BEGIN:VEVENT
DTSTART;TZID=America/New_York:20210517T090000
DTEND;TZID=America/New_York:20210517T170000
DTSTAMP:20260420T052325
CREATED:20210426T164257Z
LAST-MODIFIED:20210426T164257Z
UID:10000074-1621242000-1621270800@www.ramapo.edu
SUMMARY:Grades Due for Spring 2021 at 9:00 am
DESCRIPTION:
URL:https://www.ramapo.edu/academic-calendars/event/grades-due-for-spring-2021-at-900-am/
LOCATION:Ramapo College\, 505 Ramapo Valley Road\, Ramapo College of NJ\, Mahwah\, NJ\, 07430\, United States
CATEGORIES:Academic Calendars
END:VEVENT
BEGIN:VEVENT
DTSTART;TZID=America/New_York:20210517T083000
DTEND;TZID=America/New_York:20210517T234500
DTSTAMP:20260420T052325
CREATED:20200811T215446Z
LAST-MODIFIED:20200811T215534Z
UID:10000226-1621240200-1621295100@www.ramapo.edu
SUMMARY:Summer I\, Mini I and Full Session Courses Begin -- See Deadlines Below
DESCRIPTION:Last Day to Add/Register on the Web for Summer I\, Mini I and Full Sessions\nLast Day to request Audit Grade for Summer I\, Mini I and Full Sessions\nLast Day to drop with 100% refund on the Web for Summer I\, Mini I\, and Full Sessions
URL:https://www.ramapo.edu/academic-calendars/event/summer-i-mini-i-and-full-session-courses-begin-see-deadlines-below-3/
LOCATION:Ramapo College\, 505 Ramapo Valley Road\, Ramapo College of NJ\, Mahwah\, NJ\, 07430\, United States
END:VEVENT
BEGIN:VEVENT
DTSTART;TZID=America/New_York:20210517T080000
DTEND;TZID=America/New_York:20210517T234500
DTSTAMP:20260420T052325
CREATED:20200811T215819Z
LAST-MODIFIED:20200811T220241Z
UID:10000228-1621238400-1621295100@www.ramapo.edu
SUMMARY:Full Session -- Last Day to request Independent Study and Audit Grade
DESCRIPTION:
URL:https://www.ramapo.edu/academic-calendars/event/full-session-last-day-to-request-independent-study-and-audit-grade-2/
LOCATION:Ramapo College\, 505 Ramapo Valley Road\, Ramapo College of NJ\, Mahwah\, NJ\, 07430\, United States
END:VEVENT
BEGIN:VEVENT
DTSTART;TZID=America/New_York:20210511T000500
DTEND;TZID=America/New_York:20210511T235500
DTSTAMP:20260420T052325
CREATED:20180709T155203Z
LAST-MODIFIED:20200528T173750Z
UID:10000060-1620691500-1620777300@www.ramapo.edu
SUMMARY:Last Day of Semester
DESCRIPTION:
URL:https://www.ramapo.edu/academic-calendars/event/last-day-of-semester-6/
LOCATION:Ramapo College\, 505 Ramapo Valley Road\, Ramapo College of NJ\, Mahwah\, NJ\, 07430\, United States
CATEGORIES:Academic Calendars
END:VEVENT
BEGIN:VEVENT
DTSTART;VALUE=DATE:20210511
DTEND;VALUE=DATE:20210512
DTSTAMP:20260420T052325
CREATED:20180709T155122Z
LAST-MODIFIED:20181206T200006Z
UID:10000059-1620691200-1620777599@www.ramapo.edu
SUMMARY:Last Day to request "I" Grade
DESCRIPTION:
URL:https://www.ramapo.edu/academic-calendars/event/last-day-to-request-i-grade-4/
LOCATION:Ramapo College\, 505 Ramapo Valley Road\, Ramapo College of NJ\, Mahwah\, NJ\, 07430\, United States
CATEGORIES:Academic Calendars
END:VEVENT
BEGIN:VEVENT
DTSTART;VALUE=DATE:20210508
DTEND;VALUE=DATE:20210509
DTSTAMP:20260420T052325
CREATED:20201214T213201Z
LAST-MODIFIED:20201214T213201Z
UID:10000070-1620432000-1620518399@www.ramapo.edu
SUMMARY:Residence Halls close at 6:00pm for those who do not have finals on Monday\, May 10th or Tuesday\, May 11th
DESCRIPTION:
URL:https://www.ramapo.edu/academic-calendars/event/residence-halls-close-at-600pm-for-those-who-do-not-have-finals-on-monday-may-10th-or-tuesday-may-11th/
LOCATION:Ramapo College\, 505 Ramapo Valley Road\, Ramapo College of NJ\, Mahwah\, NJ\, 07430\, United States
CATEGORIES:Academic Calendars
END:VEVENT
BEGIN:VEVENT
DTSTART;VALUE=DATE:20210508
DTEND;VALUE=DATE:20210509
DTSTAMP:20260420T052325
CREATED:20180709T155053Z
LAST-MODIFIED:20181206T200104Z
UID:10000057-1620432000-1620518399@www.ramapo.edu
SUMMARY:Common Finals
DESCRIPTION:
URL:https://www.ramapo.edu/academic-calendars/event/common-finals-14/
LOCATION:Ramapo College\, 505 Ramapo Valley Road\, Ramapo College of NJ\, Mahwah\, NJ\, 07430\, United States
CATEGORIES:Academic Calendars
END:VEVENT
BEGIN:VEVENT
DTSTART;VALUE=DATE:20210505
DTEND;VALUE=DATE:20210512
DTSTAMP:20260420T052325
CREATED:20180709T155021Z
LAST-MODIFIED:20210119T193410Z
UID:10000055-1620172800-1620777599@www.ramapo.edu
SUMMARY:Final Exams
DESCRIPTION:Click here for the exam schedule.
URL:https://www.ramapo.edu/academic-calendars/event/final-exams-11/
LOCATION:Ramapo College\, 505 Ramapo Valley Road\, Ramapo College of NJ\, Mahwah\, NJ\, 07430\, United States
CATEGORIES:Academic Calendars
END:VEVENT
BEGIN:VEVENT
DTSTART;VALUE=DATE:20210504
DTEND;VALUE=DATE:20210505
DTSTAMP:20260420T052325
CREATED:20180709T154951Z
LAST-MODIFIED:20181206T200115Z
UID:10000053-1620086400-1620172799@www.ramapo.edu
SUMMARY:Reading Day
DESCRIPTION:
URL:https://www.ramapo.edu/academic-calendars/event/reading-day-11/
LOCATION:Ramapo College\, 505 Ramapo Valley Road\, Ramapo College of NJ\, Mahwah\, NJ\, 07430\, United States
CATEGORIES:Academic Calendars
END:VEVENT
BEGIN:VEVENT
DTSTART;VALUE=DATE:20210416
DTEND;VALUE=DATE:20210417
DTSTAMP:20260420T052325
CREATED:20180709T154923Z
LAST-MODIFIED:20201104T215037Z
UID:10000051-1618531200-1618617599@www.ramapo.edu
SUMMARY:Last Day to Withdraw from Classes with "W" Grade
DESCRIPTION:
URL:https://www.ramapo.edu/academic-calendars/event/last-day-to-withdraw-from-classes-with-w-grade-4/
LOCATION:Ramapo College\, 505 Ramapo Valley Road\, Ramapo College of NJ\, Mahwah\, NJ\, 07430\, United States
CATEGORIES:Academic Calendars
END:VEVENT
BEGIN:VEVENT
DTSTART;VALUE=DATE:20210402
DTEND;VALUE=DATE:20210403
DTSTAMP:20260420T052325
CREATED:20180709T154844Z
LAST-MODIFIED:20181206T200124Z
UID:10000049-1617321600-1617407999@www.ramapo.edu
SUMMARY:Good Friday (Classes in session - Offices closed)
DESCRIPTION:
URL:https://www.ramapo.edu/academic-calendars/event/good-friday-classes-in-session-offices-closed/
LOCATION:Ramapo College\, 505 Ramapo Valley Road\, Ramapo College of NJ\, Mahwah\, NJ\, 07430\, United States
CATEGORIES:Academic Calendars
END:VEVENT
BEGIN:VEVENT
DTSTART;VALUE=DATE:20210330
DTEND;VALUE=DATE:20210331
DTSTAMP:20260420T052325
CREATED:20180709T154808Z
LAST-MODIFIED:20190108T142556Z
UID:10000047-1617062400-1617148799@www.ramapo.edu
SUMMARY:August Graduation Applications Due
DESCRIPTION:Click here for more graduation related information.
URL:https://www.ramapo.edu/academic-calendars/event/august-graduation-applications-due-7/
LOCATION:Ramapo College\, 505 Ramapo Valley Road\, Ramapo College of NJ\, Mahwah\, NJ\, 07430\, United States
CATEGORIES:Academic Calendars
END:VEVENT
BEGIN:VEVENT
DTSTART;VALUE=DATE:20210226
DTEND;VALUE=DATE:20210227
DTSTAMP:20260420T052325
CREATED:20180709T154648Z
LAST-MODIFIED:20200305T202811Z
UID:10000043-1614297600-1614383999@www.ramapo.edu
SUMMARY:Last Day to resolve "I" grade from Fall and Winter Semester
DESCRIPTION:
URL:https://www.ramapo.edu/academic-calendars/event/last-day-to-resolve-i-grade-from-fall-semester-4/
LOCATION:Ramapo College\, 505 Ramapo Valley Road\, Ramapo College of NJ\, Mahwah\, NJ\, 07430\, United States
CATEGORIES:Academic Calendars
END:VEVENT
BEGIN:VEVENT
DTSTART;VALUE=DATE:20210215
DTEND;VALUE=DATE:20210216
DTSTAMP:20260420T052325
CREATED:20180709T154605Z
LAST-MODIFIED:20181206T200144Z
UID:10000041-1613347200-1613433599@www.ramapo.edu
SUMMARY:President's Day (Classes in session - Offices closed)
DESCRIPTION:
URL:https://www.ramapo.edu/academic-calendars/event/presidents-day-classes-in-session-offices-closed/
LOCATION:Ramapo College\, 505 Ramapo Valley Road\, Ramapo College of NJ\, Mahwah\, NJ\, 07430\, United States
CATEGORIES:Academic Calendars
END:VEVENT
BEGIN:VEVENT
DTSTART;TZID=America/New_York:20210209T000500
DTEND;TZID=America/New_York:20210209T170000
DTSTAMP:20260420T052325
CREATED:20201113T165735Z
LAST-MODIFIED:20201113T165950Z
UID:10000073-1612829100-1612890000@www.ramapo.edu
SUMMARY:Last day 50% refund for housing and meal plan
DESCRIPTION:
URL:https://www.ramapo.edu/academic-calendars/event/last-day-50-refund-for-housing-and-meal-plan-2/
LOCATION:Ramapo College\, 505 Ramapo Valley Road\, Ramapo College of NJ\, Mahwah\, NJ\, 07430\, United States
CATEGORIES:Academic Calendars
END:VEVENT
BEGIN:VEVENT
DTSTART;VALUE=DATE:20210209
DTEND;VALUE=DATE:20210210
DTSTAMP:20260420T052325
CREATED:20180709T154448Z
LAST-MODIFIED:20201104T214636Z
UID:10000038-1612828800-1612915199@www.ramapo.edu
SUMMARY:Last Day to Drop Classes with 50% Tuition Refund
DESCRIPTION:
URL:https://www.ramapo.edu/academic-calendars/event/last-day-to-drop-classes-with-50-tuition-refund-6/
LOCATION:Ramapo College\, 505 Ramapo Valley Road\, Ramapo College of NJ\, Mahwah\, NJ\, 07430\, United States
CATEGORIES:Academic Calendars
END:VEVENT
BEGIN:VEVENT
DTSTART;VALUE=DATE:20210208
DTEND;VALUE=DATE:20210209
DTSTAMP:20260420T052325
CREATED:20180709T154408Z
LAST-MODIFIED:20201104T214548Z
UID:10000037-1612742400-1612828799@www.ramapo.edu
SUMMARY:Last Day to request Pass/Fail Grade Option
DESCRIPTION:
URL:https://www.ramapo.edu/academic-calendars/event/last-day-to-request-pass-fail-grade-option/
LOCATION:Ramapo College\, 505 Ramapo Valley Road\, Ramapo College of NJ\, Mahwah\, NJ\, 07430\, United States
CATEGORIES:Academic Calendars
END:VEVENT
BEGIN:VEVENT
DTSTART;TZID=America/New_York:20210201T001000
DTEND;TZID=America/New_York:20210201T235500
DTSTAMP:20260420T052325
CREATED:20180709T155831Z
LAST-MODIFIED:20201104T214422Z
UID:10000061-1612138200-1612223700@www.ramapo.edu
SUMMARY:Last Day to request Independent Study and Audit Grade Option
DESCRIPTION:
URL:https://www.ramapo.edu/academic-calendars/event/last-day-to-request-independent-study-and-audit-grade-option-7/
LOCATION:Ramapo College\, 505 Ramapo Valley Road\, Ramapo College of NJ\, Mahwah\, NJ\, 07430\, United States
CATEGORIES:Academic Calendars
END:VEVENT
BEGIN:VEVENT
DTSTART;TZID=America/New_York:20210201T000600
DTEND;TZID=America/New_York:20210201T170000
DTSTAMP:20260420T052325
CREATED:20201113T165636Z
LAST-MODIFIED:20201113T165851Z
UID:10000072-1612137960-1612198800@www.ramapo.edu
SUMMARY:Last day 100% Housing Refund
DESCRIPTION:Last day 100% housing refund (for those that have not checked into the Residence Halls)\nLast day 100% housing refund  (minus the daily rate up until this date for those that have checked in)\nLast day 100% refund for meal plan (minus meal usage)
URL:https://www.ramapo.edu/academic-calendars/event/last-day-100-housing-refund-2/
LOCATION:Ramapo College\, 505 Ramapo Valley Road\, Ramapo College of NJ\, Mahwah\, NJ\, 07430\, United States
CATEGORIES:Academic Calendars
END:VEVENT
BEGIN:VEVENT
DTSTART;TZID=America/New_York:20210201T000500
DTEND;TZID=America/New_York:20210201T235500
DTSTAMP:20260420T052325
CREATED:20180709T154153Z
LAST-MODIFIED:20201104T214302Z
UID:10000036-1612137900-1612223700@www.ramapo.edu
SUMMARY:Last day to Drop Classes with 100% Tuition Refund
DESCRIPTION:
URL:https://www.ramapo.edu/academic-calendars/event/last-day-to-drop-classes-with-100-tuition-refund-3/
LOCATION:Ramapo College\, 505 Ramapo Valley Road\, Ramapo College of NJ\, Mahwah\, NJ\, 07430\, United States
CATEGORIES:Academic Calendars
END:VEVENT
BEGIN:VEVENT
DTSTART;TZID=America/New_York:20210201T000100
DTEND;TZID=America/New_York:20210201T235900
DTSTAMP:20260420T052325
CREATED:20180709T154020Z
LAST-MODIFIED:20201104T214158Z
UID:10000035-1612137660-1612223940@www.ramapo.edu
SUMMARY:Last Day of Class Adjustments (on the Web)
DESCRIPTION:
URL:https://www.ramapo.edu/academic-calendars/event/last-day-of-class-adjustments-on-the-web/
LOCATION:Ramapo College\, 505 Ramapo Valley Road\, Ramapo College of NJ\, Mahwah\, NJ\, 07430\, United States
CATEGORIES:Academic Calendars
END:VEVENT
BEGIN:VEVENT
DTSTART;VALUE=DATE:20210130
DTEND;VALUE=DATE:20210131
DTSTAMP:20260420T052325
CREATED:20180709T154524Z
LAST-MODIFIED:20190108T142335Z
UID:10000039-1611964800-1612051199@www.ramapo.edu
SUMMARY:June Graduation Application Due
DESCRIPTION:Click here for more graduation related information.
URL:https://www.ramapo.edu/academic-calendars/event/june-graduation-application-due-3/
LOCATION:Ramapo College\, 505 Ramapo Valley Road\, Ramapo College of NJ\, Mahwah\, NJ\, 07430\, United States
CATEGORIES:Academic Calendars
END:VEVENT
BEGIN:VEVENT
DTSTART;VALUE=DATE:20210126
DTEND;VALUE=DATE:20210127
DTSTAMP:20260420T052325
CREATED:20180709T153939Z
LAST-MODIFIED:20201104T214010Z
UID:10000034-1611619200-1611705599@www.ramapo.edu
SUMMARY:First Day of Classes
DESCRIPTION:
URL:https://www.ramapo.edu/academic-calendars/event/first-day-of-classes-6/
LOCATION:Ramapo College\, 505 Ramapo Valley Road\, Ramapo College of NJ\, Mahwah\, NJ\, 07430\, United States
CATEGORIES:Academic Calendars
END:VEVENT
BEGIN:VEVENT
DTSTART;TZID=America/New_York:20210119T090000
DTEND;TZID=America/New_York:20210119T093000
DTSTAMP:20260420T052325
CREATED:20201221T151636Z
LAST-MODIFIED:20201221T151636Z
UID:10000045-1611046800-1611048600@www.ramapo.edu
SUMMARY:Grades due at 9 am for Winter term
DESCRIPTION:
URL:https://www.ramapo.edu/academic-calendars/event/grades-due-at-9-am-for-winter-term/
LOCATION:Ramapo College\, 505 Ramapo Valley Road\, Ramapo College of NJ\, Mahwah\, NJ\, 07430\, United States
CATEGORIES:Academic Calendars
END:VEVENT
BEGIN:VEVENT
DTSTART;VALUE=DATE:20210115
DTEND;VALUE=DATE:20210116
DTSTAMP:20260420T052325
CREATED:20180926T164615Z
LAST-MODIFIED:20181206T200359Z
UID:10000068-1610668800-1610755199@www.ramapo.edu
SUMMARY:Last Day of Winter Semester
DESCRIPTION:
URL:https://www.ramapo.edu/academic-calendars/event/last-day-of-winter-semester-3/
LOCATION:Ramapo College\, 505 Ramapo Valley Road\, Ramapo College of NJ\, Mahwah\, NJ\, 07430\, United States
CATEGORIES:Academic Calendars
END:VEVENT
BEGIN:VEVENT
DTSTART;VALUE=DATE:20210115
DTEND;VALUE=DATE:20210116
DTSTAMP:20260420T052325
CREATED:20180926T164517Z
LAST-MODIFIED:20181206T200403Z
UID:10000067-1610668800-1610755199@www.ramapo.edu
SUMMARY:Last Day to request "I" grade for Winter Classes
DESCRIPTION:
URL:https://www.ramapo.edu/academic-calendars/event/last-day-to-request-i-grade-for-winter-classes-2/
LOCATION:Ramapo College\, 505 Ramapo Valley Road\, Ramapo College of NJ\, Mahwah\, NJ\, 07430\, United States
CATEGORIES:Academic Calendars
END:VEVENT
BEGIN:VEVENT
DTSTART;VALUE=DATE:20210111
DTEND;VALUE=DATE:20210112
DTSTAMP:20260420T052325
CREATED:20180926T164441Z
LAST-MODIFIED:20181206T200410Z
UID:10000066-1610323200-1610409599@www.ramapo.edu
SUMMARY:Last Day to Withdraw from Winter Classes with "W" grade
DESCRIPTION:
URL:https://www.ramapo.edu/academic-calendars/event/last-day-to-withdraw-from-winter-classes-with-w-grade-5/
LOCATION:Ramapo College\, 505 Ramapo Valley Road\, Ramapo College of NJ\, Mahwah\, NJ\, 07430\, United States
CATEGORIES:Academic Calendars
END:VEVENT
END:VCALENDAR