BEGIN:VCALENDAR
VERSION:2.0
PRODID:-//Academic Calendars - ECPv6.15.17.1//NONSGML v1.0//EN
CALSCALE:GREGORIAN
METHOD:PUBLISH
X-ORIGINAL-URL:https://www.ramapo.edu/academic-calendars
X-WR-CALDESC:Events for Academic Calendars
REFRESH-INTERVAL;VALUE=DURATION:PT1H
X-Robots-Tag:noindex
X-PUBLISHED-TTL:PT1H
BEGIN:VTIMEZONE
TZID:America/New_York
BEGIN:DAYLIGHT
TZOFFSETFROM:-0500
TZOFFSETTO:-0400
TZNAME:EDT
DTSTART:20200308T070000
END:DAYLIGHT
BEGIN:STANDARD
TZOFFSETFROM:-0400
TZOFFSETTO:-0500
TZNAME:EST
DTSTART:20201101T060000
END:STANDARD
BEGIN:DAYLIGHT
TZOFFSETFROM:-0500
TZOFFSETTO:-0400
TZNAME:EDT
DTSTART:20210314T070000
END:DAYLIGHT
BEGIN:STANDARD
TZOFFSETFROM:-0400
TZOFFSETTO:-0500
TZNAME:EST
DTSTART:20211107T060000
END:STANDARD
BEGIN:DAYLIGHT
TZOFFSETFROM:-0500
TZOFFSETTO:-0400
TZNAME:EDT
DTSTART:20220313T070000
END:DAYLIGHT
BEGIN:STANDARD
TZOFFSETFROM:-0400
TZOFFSETTO:-0500
TZNAME:EST
DTSTART:20221106T060000
END:STANDARD
END:VTIMEZONE
BEGIN:VEVENT
DTSTART;TZID=America/New_York:20211214T000000
DTEND;TZID=America/New_York:20211214T235500
DTSTAMP:20260425T230606
CREATED:20200527T214503Z
LAST-MODIFIED:20200528T173750Z
UID:10000204-1639440000-1639526100@www.ramapo.edu
SUMMARY:Reading Day
DESCRIPTION:
URL:https://www.ramapo.edu/academic-calendars/event/reading-day-5/
LOCATION:Ramapo College\, 505 Ramapo Valley Road\, Ramapo College of NJ\, Mahwah\, NJ\, 07430\, United States
CATEGORIES:Academic Calendars
END:VEVENT
BEGIN:VEVENT
DTSTART;TZID=America/New_York:20211215T000000
DTEND;TZID=America/New_York:20211221T235500
DTSTAMP:20260425T230606
CREATED:20200527T215849Z
LAST-MODIFIED:20200528T173750Z
UID:10000208-1639526400-1640130900@www.ramapo.edu
SUMMARY:Final Exams
DESCRIPTION:
URL:https://www.ramapo.edu/academic-calendars/event/final-exams-12/
LOCATION:Ramapo College\, 505 Ramapo Valley Road\, Ramapo College of NJ\, Mahwah\, NJ\, 07430\, United States
CATEGORIES:Academic Calendars
END:VEVENT
BEGIN:VEVENT
DTSTART;VALUE=DATE:20211218
DTEND;VALUE=DATE:20211219
DTSTAMP:20260425T230606
CREATED:20211025T150120Z
LAST-MODIFIED:20211025T150120Z
UID:10000009-1639785600-1639871999@www.ramapo.edu
SUMMARY:Common Finals
DESCRIPTION:
URL:https://www.ramapo.edu/academic-calendars/event/common-finals-15/
LOCATION:Ramapo College\, 505 Ramapo Valley Road\, Ramapo College of NJ\, Mahwah\, NJ\, 07430\, United States
END:VEVENT
BEGIN:VEVENT
DTSTART;TZID=America/New_York:20211221T000000
DTEND;TZID=America/New_York:20211221T235500
DTSTAMP:20260425T230606
CREATED:20200527T220316Z
LAST-MODIFIED:20200528T173750Z
UID:10000213-1640044800-1640130900@www.ramapo.edu
SUMMARY:Last Day of Fall Semester
DESCRIPTION:
URL:https://www.ramapo.edu/academic-calendars/event/last-day-of-fall-semester-2/
LOCATION:Ramapo College\, 505 Ramapo Valley Road\, Ramapo College of NJ\, Mahwah\, NJ\, 07430\, United States
CATEGORIES:Academic Calendars
END:VEVENT
BEGIN:VEVENT
DTSTART;TZID=America/New_York:20211221T000000
DTEND;TZID=America/New_York:20211221T235500
DTSTAMP:20260425T230606
CREATED:20200527T220456Z
LAST-MODIFIED:20210830T131947Z
UID:10000214-1640044800-1640130900@www.ramapo.edu
SUMMARY:Last Day to Request "I" Grade For Fall Semester
DESCRIPTION:
URL:https://www.ramapo.edu/academic-calendars/event/last-day-to-request-i-grade-for-fall-semster/
LOCATION:Ramapo College\, 505 Ramapo Valley Road\, Ramapo College of NJ\, Mahwah\, NJ\, 07430\, United States
CATEGORIES:Academic Calendars
END:VEVENT
BEGIN:VEVENT
DTSTART;VALUE=DATE:20211221
DTEND;VALUE=DATE:20211222
DTSTAMP:20260425T230606
CREATED:20211015T160345Z
LAST-MODIFIED:20211015T160345Z
UID:10000082-1640044800-1640131199@www.ramapo.edu
SUMMARY:Residence Halls Close at 6:00 pm
DESCRIPTION:
URL:https://www.ramapo.edu/academic-calendars/event/residence-halls-close-at-600-pm-2/
LOCATION:Ramapo College\, 505 Ramapo Valley Road\, Ramapo College of NJ\, Mahwah\, NJ\, 07430\, United States
CATEGORIES:Academic Calendars
END:VEVENT
BEGIN:VEVENT
DTSTART;TZID=America/New_York:20211221T180000
DTEND;TZID=America/New_York:20211221T235900
DTSTAMP:20260425T230606
CREATED:20210920T213936Z
LAST-MODIFIED:20210920T214110Z
UID:10000080-1640109600-1640131140@www.ramapo.edu
SUMMARY:Residence Halls Close at 6:00 p.m.
DESCRIPTION:
URL:https://www.ramapo.edu/academic-calendars/event/residence-halls-close-at-600-p-m-3/
LOCATION:Ramapo College\, 505 Ramapo Valley Road\, Ramapo College of NJ\, Mahwah\, NJ\, 07430\, United States
CATEGORIES:Academic Calendars
END:VEVENT
BEGIN:VEVENT
DTSTART;TZID=America/New_York:20211222T000000
DTEND;TZID=America/New_York:20211222T235500
DTSTAMP:20260425T230606
CREATED:20200527T220634Z
LAST-MODIFIED:20210830T131914Z
UID:10000215-1640131200-1640217300@www.ramapo.edu
SUMMARY:Exam Make-up Day for Fall Semester
DESCRIPTION:
URL:https://www.ramapo.edu/academic-calendars/event/exam-make-up-day-for-fall-semster/
LOCATION:Ramapo College\, 505 Ramapo Valley Road\, Ramapo College of NJ\, Mahwah\, NJ\, 07430\, United States
CATEGORIES:Academic Calendars
END:VEVENT
BEGIN:VEVENT
DTSTART;TZID=America/New_York:20211222T000000
DTEND;TZID=America/New_York:20211222T235900
DTSTAMP:20260425T230606
CREATED:20200811T210808Z
LAST-MODIFIED:20200811T214405Z
UID:10000220-1640131200-1640217540@www.ramapo.edu
SUMMARY:First Day of Winter Session Classes
DESCRIPTION:
URL:https://www.ramapo.edu/academic-calendars/event/first-day-of-classes-8/
LOCATION:Ramapo College\, 505 Ramapo Valley Road\, Ramapo College of NJ\, Mahwah\, NJ\, 07430\, United States
END:VEVENT
BEGIN:VEVENT
DTSTART;TZID=America/New_York:20211222T000000
DTEND;TZID=America/New_York:20211222T235900
DTSTAMP:20260425T230606
CREATED:20200811T211353Z
LAST-MODIFIED:20211220T163728Z
UID:10000219-1640131200-1640217540@www.ramapo.edu
SUMMARY:Last Day of Class Adjustments (on the Web) for Winter semester
DESCRIPTION:
URL:https://www.ramapo.edu/academic-calendars/event/last-day-of-class-adjustments-on-the-web-4/
LOCATION:Ramapo College\, 505 Ramapo Valley Road\, Ramapo College of NJ\, Mahwah\, NJ\, 07430\, United States
END:VEVENT
BEGIN:VEVENT
DTSTART;TZID=America/New_York:20211222T000000
DTEND;TZID=America/New_York:20211222T235900
DTSTAMP:20260425T230606
CREATED:20200811T211551Z
LAST-MODIFIED:20211220T163705Z
UID:10000221-1640131200-1640217540@www.ramapo.edu
SUMMARY:Last Day to Drop Classes with 100% Tuition Refund for Winter semester
DESCRIPTION:
URL:https://www.ramapo.edu/academic-calendars/event/last-day-to-drop-classes-with-100-tuition-refund-5/
LOCATION:Ramapo College\, 505 Ramapo Valley Road\, Ramapo College of NJ\, Mahwah\, NJ\, 07430\, United States
END:VEVENT
BEGIN:VEVENT
DTSTART;TZID=America/New_York:20211222T000000
DTEND;TZID=America/New_York:20211222T235900
DTSTAMP:20260425T230606
CREATED:20200811T211741Z
LAST-MODIFIED:20211220T163654Z
UID:10000222-1640131200-1640217540@www.ramapo.edu
SUMMARY:Last Day to request Audit Grade Option for Winter semester
DESCRIPTION:
URL:https://www.ramapo.edu/academic-calendars/event/last-day-to-request-audit-grade-option/
LOCATION:Ramapo College\, 505 Ramapo Valley Road\, Ramapo College of NJ\, Mahwah\, NJ\, 07430\, United States
END:VEVENT
BEGIN:VEVENT
DTSTART;TZID=America/New_York:20211226T000000
DTEND;TZID=America/New_York:20211226T235900
DTSTAMP:20260425T230606
CREATED:20200811T211931Z
LAST-MODIFIED:20211220T163639Z
UID:10000223-1640476800-1640563140@www.ramapo.edu
SUMMARY:Last Day to Drop Classes at 50% Tuition Refund for Winter semester
DESCRIPTION:
URL:https://www.ramapo.edu/academic-calendars/event/last-day-to-drop-classes-at-50/
LOCATION:Ramapo College\, 505 Ramapo Valley Road\, Ramapo College of NJ\, Mahwah\, NJ\, 07430\, United States
END:VEVENT
BEGIN:VEVENT
DTSTART;TZID=America/New_York:20211227T080000
DTEND;TZID=America/New_York:20211227T090000
DTSTAMP:20260425T230606
CREATED:20200528T172834Z
LAST-MODIFIED:20211117T211700Z
UID:10000217-1640592000-1640595600@www.ramapo.edu
SUMMARY:Faculty Grades Due
DESCRIPTION:
URL:https://www.ramapo.edu/academic-calendars/event/faculty-grades-due/
LOCATION:Ramapo College\, 505 Ramapo Valley Road\, Ramapo College of NJ\, Mahwah\, NJ\, 07430\, United States
CATEGORIES:Academic Calendars
END:VEVENT
END:VCALENDAR