BEGIN:VCALENDAR
VERSION:2.0
PRODID:-//Academic Calendars - ECPv6.15.17.1//NONSGML v1.0//EN
CALSCALE:GREGORIAN
METHOD:PUBLISH
X-WR-CALNAME:Academic Calendars
X-ORIGINAL-URL:https://www.ramapo.edu/academic-calendars
X-WR-CALDESC:Events for Academic Calendars
REFRESH-INTERVAL;VALUE=DURATION:PT1H
X-Robots-Tag:noindex
X-PUBLISHED-TTL:PT1H
BEGIN:VTIMEZONE
TZID:America/New_York
BEGIN:DAYLIGHT
TZOFFSETFROM:-0500
TZOFFSETTO:-0400
TZNAME:EDT
DTSTART:20200308T070000
END:DAYLIGHT
BEGIN:STANDARD
TZOFFSETFROM:-0400
TZOFFSETTO:-0500
TZNAME:EST
DTSTART:20201101T060000
END:STANDARD
BEGIN:DAYLIGHT
TZOFFSETFROM:-0500
TZOFFSETTO:-0400
TZNAME:EDT
DTSTART:20210314T070000
END:DAYLIGHT
BEGIN:STANDARD
TZOFFSETFROM:-0400
TZOFFSETTO:-0500
TZNAME:EST
DTSTART:20211107T060000
END:STANDARD
BEGIN:DAYLIGHT
TZOFFSETFROM:-0500
TZOFFSETTO:-0400
TZNAME:EDT
DTSTART:20220313T070000
END:DAYLIGHT
BEGIN:STANDARD
TZOFFSETFROM:-0400
TZOFFSETTO:-0500
TZNAME:EST
DTSTART:20221106T060000
END:STANDARD
END:VTIMEZONE
BEGIN:VEVENT
DTSTART;TZID=America/New_York:20210901T000000
DTEND;TZID=America/New_York:20210901T235500
DTSTAMP:20260423T031702
CREATED:20200527T202349Z
LAST-MODIFIED:20200528T173750Z
UID:10000178-1630454400-1630540500@www.ramapo.edu
SUMMARY:First Day of Classes
DESCRIPTION:
URL:https://www.ramapo.edu/academic-calendars/event/classes-start/
LOCATION:Ramapo College\, 505 Ramapo Valley Road\, Ramapo College of NJ\, Mahwah\, NJ\, 07430\, United States
CATEGORIES:Academic Calendars
END:VEVENT
BEGIN:VEVENT
DTSTART;TZID=America/New_York:20210906T000000
DTEND;TZID=America/New_York:20210906T235500
DTSTAMP:20260423T031702
CREATED:20200527T205104Z
LAST-MODIFIED:20200528T173750Z
UID:10000183-1630886400-1630972500@www.ramapo.edu
SUMMARY:Labor Day (College Closed)
DESCRIPTION:
URL:https://www.ramapo.edu/academic-calendars/event/labor-day-college-closed-7/
LOCATION:Ramapo College\, 505 Ramapo Valley Road\, Ramapo College of NJ\, Mahwah\, NJ\, 07430\, United States
CATEGORIES:Academic Calendars
END:VEVENT
BEGIN:VEVENT
DTSTART;TZID=America/New_York:20210907T000000
DTEND;TZID=America/New_York:20210907T235500
DTSTAMP:20260423T031702
CREATED:20200527T202657Z
LAST-MODIFIED:20200528T173750Z
UID:10000179-1630972800-1631058900@www.ramapo.edu
SUMMARY:Last Day Drop/Add-100% Refund
DESCRIPTION:
URL:https://www.ramapo.edu/academic-calendars/event/last-day-drop-add-100-refund/
LOCATION:Ramapo College\, 505 Ramapo Valley Road\, Ramapo College of NJ\, Mahwah\, NJ\, 07430\, United States
CATEGORIES:Academic Calendars
END:VEVENT
BEGIN:VEVENT
DTSTART;TZID=America/New_York:20210907T000000
DTEND;TZID=America/New_York:20210907T235500
DTSTAMP:20260423T031702
CREATED:20200527T202850Z
LAST-MODIFIED:20200528T173750Z
UID:10000180-1630972800-1631058900@www.ramapo.edu
SUMMARY:Last Day to Request Audit Grade
DESCRIPTION:
URL:https://www.ramapo.edu/academic-calendars/event/last-day-to-request-audit-grade/
LOCATION:Ramapo College\, 505 Ramapo Valley Road\, Ramapo College of NJ\, Mahwah\, NJ\, 07430\, United States
CATEGORIES:Academic Calendars
END:VEVENT
BEGIN:VEVENT
DTSTART;TZID=America/New_York:20210907T000000
DTEND;TZID=America/New_York:20210907T235500
DTSTAMP:20260423T031702
CREATED:20200527T212802Z
LAST-MODIFIED:20200528T173750Z
UID:10000189-1630972800-1631058900@www.ramapo.edu
SUMMARY:Last Day of Class Adjustments (on the Web)
DESCRIPTION:
URL:https://www.ramapo.edu/academic-calendars/event/last-day-of-class-adjustments-on-the-web-3/
LOCATION:Ramapo College\, 505 Ramapo Valley Road\, Ramapo College of NJ\, Mahwah\, NJ\, 07430\, United States
CATEGORIES:Academic Calendars
END:VEVENT
BEGIN:VEVENT
DTSTART;TZID=America/New_York:20210907T000100
DTEND;TZID=America/New_York:20210907T235500
DTSTAMP:20260423T031702
CREATED:20210406T183455Z
LAST-MODIFIED:20210406T183455Z
UID:10000077-1630972860-1631058900@www.ramapo.edu
SUMMARY:Last day 100% Housing Refund:
DESCRIPTION:Last day 100% housing refund (for those that have not checked into the Residence Halls)\nLast day 100% housing refund  (minus the daily rate up until this date for those that have checked in)\nLast day 100% refund for meal plan (minus meal usage)  
URL:https://www.ramapo.edu/academic-calendars/event/last-day-100-housing-refund-3/
LOCATION:Ramapo College\, 505 Ramapo Valley Road\, Ramapo College of NJ\, Mahwah\, NJ\, 07430\, United States
CATEGORIES:Academic Calendars
END:VEVENT
BEGIN:VEVENT
DTSTART;TZID=America/New_York:20210907T080000
DTEND;TZID=America/New_York:20210907T170000
DTSTAMP:20260423T031702
CREATED:20200527T203029Z
LAST-MODIFIED:20200528T173750Z
UID:10000181-1631001600-1631034000@www.ramapo.edu
SUMMARY:Last Day to Submit Independent Study
DESCRIPTION:
URL:https://www.ramapo.edu/academic-calendars/event/last-day-to-submit-independent-study/
LOCATION:Ramapo College\, 505 Ramapo Valley Road\, Ramapo College of NJ\, Mahwah\, NJ\, 07430\, United States
CATEGORIES:Academic Calendars
END:VEVENT
BEGIN:VEVENT
DTSTART;TZID=America/New_York:20210914T000000
DTEND;TZID=America/New_York:20210914T235500
DTSTAMP:20260423T031702
CREATED:20200528T181321Z
LAST-MODIFIED:20200528T191938Z
UID:10000210-1631577600-1631663700@www.ramapo.edu
SUMMARY:Last Day to Drop/Add for 100% Refund for Monday only Classes
DESCRIPTION:
URL:https://www.ramapo.edu/academic-calendars/event/last-day-to-drop-add-for-100-for-monday-only-classes/
LOCATION:Ramapo College\, 505 Ramapo Valley Road\, Ramapo College of NJ\, Mahwah\, NJ\, 07430\, United States
END:VEVENT
BEGIN:VEVENT
DTSTART;TZID=America/New_York:20210914T000000
DTEND;TZID=America/New_York:20210914T235900
DTSTAMP:20260423T031702
CREATED:20200527T213231Z
LAST-MODIFIED:20200528T173750Z
UID:10000190-1631577600-1631663940@www.ramapo.edu
SUMMARY:Last Day to Drop Classes with 50% Tuition Refund
DESCRIPTION:
URL:https://www.ramapo.edu/academic-calendars/event/last-day-to-drop-classes-with-50-tuition-refund-7/
LOCATION:Ramapo College\, 505 Ramapo Valley Road\, Ramapo College of NJ\, Mahwah\, NJ\, 07430\, United States
CATEGORIES:Academic Calendars
END:VEVENT
BEGIN:VEVENT
DTSTART;TZID=America/New_York:20210914T000100
DTEND;TZID=America/New_York:20210914T235500
DTSTAMP:20260423T031702
CREATED:20210406T183631Z
LAST-MODIFIED:20210406T183631Z
UID:10000078-1631577660-1631663700@www.ramapo.edu
SUMMARY:Last day 50% refund for housing and meal plan
DESCRIPTION:
URL:https://www.ramapo.edu/academic-calendars/event/last-day-50-refund-for-housing-and-meal-plan-3/
LOCATION:Ramapo College\, 505 Ramapo Valley Road\, Ramapo College of NJ\, Mahwah\, NJ\, 07430\, United States
CATEGORIES:Academic Calendars
END:VEVENT
BEGIN:VEVENT
DTSTART;TZID=America/New_York:20210915T000000
DTEND;TZID=America/New_York:20210915T235500
DTSTAMP:20260423T031702
CREATED:20200527T204319Z
LAST-MODIFIED:20200528T173750Z
UID:10000182-1631664000-1631750100@www.ramapo.edu
SUMMARY:Last Day to Request Pass/Fail
DESCRIPTION:
URL:https://www.ramapo.edu/academic-calendars/event/last-day-to-request-pass-fail/
LOCATION:Ramapo College\, 505 Ramapo Valley Road\, Ramapo College of NJ\, Mahwah\, NJ\, 07430\, United States
CATEGORIES:Academic Calendars
END:VEVENT
BEGIN:VEVENT
DTSTART;VALUE=DATE:20210916
DTEND;VALUE=DATE:20210917
DTSTAMP:20260423T031702
CREATED:20211203T191640Z
LAST-MODIFIED:20211203T191640Z
UID:10000163-1631750400-1631836799@www.ramapo.edu
SUMMARY:File Freeze for Fall 2021
DESCRIPTION:
URL:https://www.ramapo.edu/academic-calendars/event/file-freeze-for-fall-2021/
LOCATION:Ramapo College\, 505 Ramapo Valley Road\, Ramapo College of NJ\, Mahwah\, NJ\, 07430\, United States
CATEGORIES:Academic Calendars
END:VEVENT
END:VCALENDAR